BEGIN:VCALENDAR
PRODID:NingEventWidget-v1
VERSION:2.0
METHOD:PUBLISH
BEGIN:VEVENT
UID:1791588:Event:115697
DTSTAMP:20260424T112548Z
SUMMARY:Case-Based Workshops in Cardiac & ENT Imaging
DESCRIPTION:Case-Based Workshops in Cardiac & ENT Imaging Friday, Febr
 uary 24, 2012 - Sunday, February 26, 2012W Retreat and Spa Vieques Isl
 and, Puerto Rico (PR), United StatesProvided by University of Pennsylv
 ania Department of Radiology  CME Provider: University of Pennsylvania
  Department of Radiology 1 Silverstein3400 Spruce StreetPhiladelphia, 
 Pennsylvania (PA) 19104United States\nPhone: (215) 662-6982\n\nConfere
 nce Center:W Retreat and Spa State Road 200, Km 3.2HC-1 Box 9368Vieque
 s Island, Puerto Rico (PR) 00765United States\nPhone: (787) 741-4100\n
 Description:Join us for one or both of our case-based workshops on Sat
 urday, 2/25. Each 2-hour workshop will cover cases carefully selected 
 to illustrate practical application of state-of-the-art imaging techni
 ques. The workshops are also intended to sharpen analytic skills in im
 age analysis. Vieques is a small island just off the eastern coast of 
 Puerto Rico & home of the first W Retreat and Spas in North America. T
 his exquisite property is both luxurious & rustic & blends in the lush
  nature that surrounds it.\nSelf Assessment Module (SAM): Yes\nInstruc
 tors:Please visit the University of Pennsylvania Department of Radiolo
 gy website for more information.\nSpecialty Audience:Radiology\n\nFor 
 more information visit https://community.radrounds.com/events/case-bas
 ed-workshops-in-cardiac-ent-imaging
DTSTART:20120224T050000Z
DTEND:20120227T045900Z
CATEGORIES:radiology
LOCATION:W Retreat and Spa
WEBSITE:http://www.starwoodhotels.com/whotels/property/overview/index.
 html?propertyID=3170&EM=VTY_WH_3170_vieques_overview
URL:http://www.starwoodhotels.com/whotels/property/overview/index.html
 ?propertyID=3170&EM=VTY_WH_3170_vieques_overview
CONTACT:(787) 741-4100
ORGANIZER:University of Pennsylvania Department of Radiology
ATTACH;FMTTYPE="image/jpeg":
ATTENDEE;ROLE=REQ-PARTICIPANT;PARTSTAT=ACCEPTED;RSVP=TRUE;CN="radRound
 s Radiology Events":https://community.radrounds.com/profile/radRoundsR
 adiologyEvents
END:VEVENT
END:VCALENDAR
