BEGIN:VCALENDAR
PRODID:NingEventWidget-v1
VERSION:2.0
METHOD:PUBLISH
BEGIN:VEVENT
UID:1791588:Event:122168
DTSTAMP:20260420T002124Z
SUMMARY:Carotid Ultrasound Evaluation
DESCRIPTION:Target Audience: All registered sonographers, student sono
 graphers, and radiologic technologists who desire entry level training
  with vascular ultrasound.\n \nOverall goal of activity: To enhance t
 he knowledge and skills in the areas of vascular technology, sonograph
 ic principles and instrumention, and other topics related to sonograph
 y\n \nDescription: This course focuses on normal findings and technic
 al aspects of carotid sonography including vertebral and intracranial 
 arteries. An introduction to ultrasound physicis and its specific appl
 ication to carotid duplex scanning, anatomy of the extracranial caroti
 d system, ultrasound assessment of carotid plaque, carotid stenosis, c
 arotid occlusion, and uncommon carotid pathology will also be discusse
 d.\n \nObjectives: Upon completion of this course, the participant wi
 ll be able to:\n\nDescribe the fundamentals of Doppler principles\nIde
 ntify the ultrasound appearance of normal carotid anatomy and flow\nDe
 scribe the role of ultrasound in the management of cerebrovascular dis
 ease\nDescribe the normal findings and technical aspects of carotid so
 nography\nDescribe the ultrasound assessment of carotid plaque, stenos
 is, and pathology\nDemonstrate the use of color and duplex imaging to 
 evaluate carotid flow.\nPerform a basic carotid ultrasound evaluation 
 using the correct protocol\n\nApproved for up to 24 SDMS CMEs\nSDMS cr
 edits also accepted as ARRT category A credits\n\nFor more information
  visit https://community.radrounds.com/events/carotid-ultrasound-evalu
 ation
DTSTART:20120620T120000Z
DTEND:20120622T210000Z
CATEGORIES:course
LOCATION:Crowne Plaza Hampton Marina Hotel - Dockside Ballroom
WEBSITE:http://www.uiseducation.net
URL:http://www.uiseducation.net
CONTACT:1-888-246-3091
ORGANIZER;CN="Alphonzo Smalls":https://community.radrounds.com/profile
 /AlphonzoSmalls
ATTACH;FMTTYPE="image/jpeg":http://storage.ning.com/topology/rest/1.0/
 file/get/1044742979?profile=original
ATTENDEE;ROLE=REQ-PARTICIPANT;PARTSTAT=ACCEPTED;RSVP=TRUE;CN="Alphonzo
  Smalls":https://community.radrounds.com/profile/AlphonzoSmalls
END:VEVENT
END:VCALENDAR
