BEGIN:VCALENDAR
PRODID:NingEventWidget-v1
VERSION:2.0
METHOD:PUBLISH
BEGIN:VEVENT
UID:1791588:Event:122172
DTSTAMP:20260419T222738Z
SUMMARY:Carotid Ultrasound Evaluation - Power Course
DESCRIPTION:Target Audience: All registered sonographers, student sono
 graphers, and radiologic technologists who desire entry level training
  with vascular ultrasound.\n \nOverall goal of activity: Designed to 
 enhance the knowledge and skills in the areas of vascular technology b
 y introducing participants to laboratory acceptable scanning protocols
  and extensive hands-on training.\n \nDescription: This one day, non-
 physics course focuses on the technical aspects of ultrasound assessme
 nt of the carotid and vertebral arteries. Topics will include: cerebro
 vascular anatomy, various scanning protocols, and scanning tips. Empha
 sis will be placed on developing scanning skills through hands-on scan
 ning clinics. \n \nObjectives: Upon completion of this course, the p
 articipant will be able to:\n\nIdentify the ultrasound appearance of n
 ormal carotid anatomy and flow\nDescribe the normal findings and techn
 ical aspects of carotid sonography\nDescribe the ultrasound assessment
  of carotid plaque, stenosis, and pathology\nDemonstrate the use of co
 lor and duplex imaging to evaluate carotid flow.\nPerform a basic caro
 tid ultrasound evaluation using the correct protocol\n\nApproved for 6
 .5 SDMS CMEs\nSDMS credits accepted as ARRT Category A\n\nFor more inf
 ormation visit https://community.radrounds.com/events/carotid-ultrasou
 nd-evaluation-power-course
DTSTART:20120630T120000Z
DTEND:20120630T210000Z
CATEGORIES:course
LOCATION:Crowne Plaza Hampton Marina Hotel - Dockside Ballroom
WEBSITE:http://www.uiseducation.net
URL:http://www.uiseducation.net
CONTACT:1-888-246-3091
ORGANIZER;CN="Alphonzo Smalls":https://community.radrounds.com/profile
 /AlphonzoSmalls
ATTACH;FMTTYPE="image/jpeg":http://storage.ning.com/topology/rest/1.0/
 file/get/1044743830?profile=original
ATTENDEE;ROLE=REQ-PARTICIPANT;PARTSTAT=ACCEPTED;RSVP=TRUE;CN="Alphonzo
  Smalls":https://community.radrounds.com/profile/AlphonzoSmalls
END:VEVENT
END:VCALENDAR
