BEGIN:VCALENDAR
PRODID:NingEventWidget-v1
VERSION:2.0
METHOD:PUBLISH
BEGIN:VEVENT
UID:1791588:Event:73155
DTSTAMP:20260425T221559Z
SUMMARY:Carotid & Transcranial Doppler
DESCRIPTION:Carotid & Transcranial Doppler\nOctober 21-23, 2011\nLas V
 egas, NV\n\nMore information coming soon.\n\nHotel\n\nThe Venetian Las
  Vegas\n3355 Las Vegas Blvd. South\nLas Vegas, NV 891009\nRate: $209\n
 Cutoff: 08/13/2011\n702-414-1000\nhttp://www.venetian.com/\n\nEnjoy th
 e Sights and Flavors Of the Las Vegas Strip The Venetian and Palazzo H
 otels are located in the heart of the famous Las Vegas Strip. Inspired
  by the romance and grandeur of Venice, Italy, you are treated to an u
 nparalleled array of amenities and attractions. Remarkable restaurants
  from the likes of Wolfgang Puck, Emeril Lagasse, Charlie Trotter, Tho
 mas Keller, and other culinary luminaries await you.\n\nPlease specify
  that you will be attending the IAME meeting when making your reservat
 ions. Our block is based on a limited number of rooms. Neither IAME no
 r the hotel can guarantee that these rooms will not sell out prior to 
 the stated deadlines. To avoid disappointment, we encourage you to boo
 k early.\n\nFor more information visit https://community.radrounds.com
 /events/carotid-transcranial-doppler
DTSTART:20111021T040000Z
DTEND:20111024T035900Z
CATEGORIES:course
LOCATION:The Venetian Las Vegas
WEBSITE:https://iame.com/conferences/n30/
URL:https://iame.com/conferences/n30/
CONTACT:702-414-1000
ORGANIZER:Institute for Advanced Medical Education (IAME)
ATTACH;FMTTYPE="image/jpeg":
ATTENDEE;ROLE=REQ-PARTICIPANT;PARTSTAT=ACCEPTED;RSVP=TRUE;CN="radRound
 s Radiology Events":https://community.radrounds.com/profile/radRoundsR
 adiologyEvents
END:VEVENT
END:VCALENDAR
