BEGIN:VCALENDAR
PRODID:NingEventWidget-v1
VERSION:2.0
METHOD:PUBLISH
BEGIN:VEVENT
UID:1791588:Event:164881
DTSTAMP:20260422T044433Z
SUMMARY:Carotid Duplex Ultrasound
DESCRIPTION:This two-day seminar provides an overview of physics and i
 nstrumentation, anatomy and hemodynamics, and diagnostic criteria suit
 able for anyone from an experienced sonographer to the beginner.\n\nFo
 r more information visit https://community.radrounds.com/events/caroti
 d-duplex-ultrasound-9
DTSTART:20160107T130000Z
DTEND:20160108T210000Z
CATEGORIES:ultrasound, seminar
LOCATION:Advanced Health Education Center
WEBSITE:https://store.aheconline.com/index.php?route=product/product&p
 ath=59_83&product_id=2178
URL:https://store.aheconline.com/index.php?route=product/product&path=
 59_83&product_id=2178
CONTACT:1-800-239-1361
ORGANIZER;CN="Larry Carney":https://community.radrounds.com/profile/La
 rryCarney
ATTACH;FMTTYPE="image/jpeg":
ATTENDEE;ROLE=REQ-PARTICIPANT;PARTSTAT=ACCEPTED;RSVP=TRUE;CN="Larry Ca
 rney":https://community.radrounds.com/profile/LarryCarney
END:VEVENT
END:VCALENDAR
