BEGIN:VCALENDAR
PRODID:NingEventWidget-v1
VERSION:2.0
METHOD:PUBLISH
BEGIN:VEVENT
UID:1791588:Event:167924
DTSTAMP:20260421T074540Z
SUMMARY:Carotid Duplex Ultrasound
DESCRIPTION:Course Topics\n\nOverview of the physical principles of ul
 trasound including Doppler and color flow\nComprehensive review of the
  ultrasound platform controls enabling you to optimize your system for
  even the most difficult patient\nCarotid duplex testing including: an
 atomy, hemodynamics, diagnostic criteria, case studies, pearls and pit
 falls, as well as standardized reporting\nCase studies, pearls and pit
 falls, and standardized reporting\nHands-on scan lab\n\n\nFor more inf
 ormation visit https://community.radrounds.com/events/carotid-duplex-u
 ltrasound-18
DTSTART:20160808T120000Z
DTEND:20160809T201500Z
CATEGORIES:live, event
LOCATION:Houston
WEBSITE:https://store.aheconline.com/index.php?route=product/product&p
 ath=59&product_id=2223
URL:https://store.aheconline.com/index.php?route=product/product&path=
 59&product_id=2223
CONTACT:18002391361
ORGANIZER;CN="Larry Carney":https://community.radrounds.com/profile/La
 rryCarney
ATTACH;FMTTYPE="image/jpeg":
ATTENDEE;ROLE=REQ-PARTICIPANT;PARTSTAT=ACCEPTED;RSVP=TRUE;CN="Larry Ca
 rney":https://community.radrounds.com/profile/LarryCarney
END:VEVENT
END:VCALENDAR
