BEGIN:VCALENDAR
PRODID:NingEventWidget-v1
VERSION:2.0
METHOD:PUBLISH
BEGIN:VEVENT
UID:1791588:Event:151360
DTSTAMP:20260421T061557Z
SUMMARY:Carotid Duplex Ultrasound
DESCRIPTION:This two-day seminar provides an overview of physics and i
 nstrumentation, anatomy and hemodynamics, and diagnostic criteria suit
 able for anyone from an experienced sonographer to the beginner. For t
 he physician wanting a more thorough understanding of the capabilities
  and potential of the vascular lab, along with interpretative criteria
 , our extensive library of case studies will prove invaluable. Our sca
 n lab and state of the art equipment, along with our low student instr
 uctor ratios allow you plenty of time to perfect your protocol, and ac
 quire the scanning experience necessary to perform diagnostic vascular
  exams.\n\nFor more information visit https://community.radrounds.com/
 events/carotid-duplex-ultrasound-1
DTSTART:20140331T040000Z
DTEND:20140402T035900Z
CATEGORIES:"cme:", ultrasound
LOCATION:Advanced Health Education Center
WEBSITE:https://store2.aheconline.com/index.php?route=product/product&
 path=59&product_id=979
URL:https://store2.aheconline.com/index.php?route=product/product&path
 =59&product_id=979
CONTACT:
ORGANIZER;CN="Larry Carney":https://community.radrounds.com/profile/La
 rryCarney
ATTACH;FMTTYPE="image/jpeg":
ATTENDEE;ROLE=REQ-PARTICIPANT;PARTSTAT=ACCEPTED;RSVP=TRUE;CN="Larry Ca
 rney":https://community.radrounds.com/profile/LarryCarney
END:VEVENT
END:VCALENDAR
