BEGIN:VCALENDAR
PRODID:NingEventWidget-v1
VERSION:2.0
METHOD:PUBLISH
BEGIN:VEVENT
UID:1791588:Event:115976
DTSTAMP:20260424T060043Z
SUMMARY:Cardiac and Peripheral Vascular MR
DESCRIPTION:Cardiac and Peripheral Vascular MR Friday, March 02, 2012 
 - Sunday, March 04, 2012American College of Radiology (ACR) Reston, Vi
 rginia (VA), United StatesProvided by American College of Radiology (A
 CR)  CME Provider: American College of Radiology (ACR) 1891 Preston Wh
 ite DriveReston, Virginia (VA) 20191United States\nToll Free: (800) 37
 3-2204Phone: (800) 373-2204\n\nConference Center:American College of R
 adiology (ACR) ACR Education Center1891 Preston White DriveReston, Vir
 ginia (VA) 20191United States\nToll Free: (800) 373-2204Phone: (800) 3
 73-2204\n Description:This two-and-a-half day course is designed to op
 timize clinical practice skills by providing intense training in inter
 preting cardiac MR examinations under the supervision of expert facult
 y. Participants use workstations with the same vendor software as in t
 heir own practice and have access to over 50 cardiac MR and vascular M
 R angiography cases for review. Post-processing techniques and interpr
 etation will be emphasized. The course also covers technical considera
 tions for obtaining optimal examinations for interpretation.\nSelf Ass
 essment Module (SAM): Yes\nInstructors:Ricardo Cury, MDDirector of Car
 diac ImagingBaptist Hospital of Miami and Baptist Cardiac and Vascular
  InstituteMiami, FL\nSpecialty Audience:Radiology\n\nFor more informat
 ion visit https://community.radrounds.com/events/cardiac-and-periphera
 l-vascular-mr
DTSTART:20120302T050000Z
DTEND:20120305T045900Z
CATEGORIES:radiology
LOCATION:American College of Radiology (ACR)
WEBSITE:http://www.acr.org/educenter
URL:http://www.acr.org/educenter
CONTACT:(800) 373-2204
ORGANIZER:American College of Radiology (ACR)
ATTACH;FMTTYPE="image/jpeg":
ATTENDEE;ROLE=REQ-PARTICIPANT;PARTSTAT=ACCEPTED;RSVP=TRUE;CN="radRound
 s Radiology Events":https://community.radrounds.com/profile/radRoundsR
 adiologyEvents
END:VEVENT
END:VCALENDAR
