BEGIN:VCALENDAR
PRODID:NingEventWidget-v1
VERSION:2.0
METHOD:PUBLISH
BEGIN:VEVENT
UID:1791588:Event:172047
DTSTAMP:20260424T091636Z
SUMMARY:Breast Ultrasound with Tom Stavros
DESCRIPTION:Register online at:\nhttp://www.worldclasscme.com/conferen
 ces/breast-ultrasound-tom-stavros/\n\nThis well-received comprehensive
  course on breast ultrasound with an emphasis on a new classification 
 system on breast cancer is offered in 2017 with Tom Stavros as lead fa
 culty.  Dr. Stavros delivers high-level instruction on standard ultra
 sound techniques and emerging breast ultrasound technologies for both 
 early detection and diagnosis of breast cancer.  This course is recom
 mended for Radiologists, Surgeons, Sonographers and Mammography Techno
 logists with better-than-average skill in breast ultrasound, and an in
 terest in improving those skills in screening for, and diagnosing brea
 st cancer.  The course is a combination of didactic lectures along wi
 th hands-on workshops at workstations and with live models.\nPricing 
  Physician: $1295.00  Physician Assistant: $1095.00  Sonographer: $995
 .00  Retired: $1095.00  Military: $1095.00\n\n24.5 AMA PRA Category 1
  Credits™\nASRT approved for Category A CE credit for Sonographers a
 nd Technologists\n\nFor more information visit https://community.radro
 unds.com/events/breast-ultrasound-with-tom-stavros
DTSTART:20170914T040000Z
DTEND:20170918T035900Z
CATEGORIES:breast, ultrasound, sonography, cme, mammography, imaging, 
 radiology, "women's", conference, live, event
LOCATION:Ritz Carlton, Pentagon City
WEBSITE:http://www.ritzcarlton.com/en/hotels/washington-dc/pentagon-ci
 ty
URL:http://www.ritzcarlton.com/en/hotels/washington-dc/pentagon-city
CONTACT:800-422-2410
ORGANIZER:World Class CME
ATTACH;FMTTYPE="image/jpeg":http://storage.ning.com/topology/rest/1.0/
 file/get/1044768644?profile=original
ATTENDEE;ROLE=REQ-PARTICIPANT;PARTSTAT=ACCEPTED;RSVP=TRUE;CN="JoAnn Co
 oke":https://community.radrounds.com/profile/JoAnnCooke
END:VEVENT
END:VCALENDAR
