BEGIN:VCALENDAR
PRODID:NingEventWidget-v1
VERSION:2.0
METHOD:PUBLISH
BEGIN:VEVENT
UID:1791588:Event:191875
DTSTAMP:20260423T070844Z
SUMMARY:Breast Ultrasound With Tom Stavros - Hot Topics in Advanced Sc
 reening and Diagnosis
DESCRIPTION:This course will emphasize a new classification system on 
 breast cancer and will focus on “non”-mass ultrasound findings, an
  analysis of causes of false negative BI-RADS 3 classifications, and n
 ew ways of classifying breast nodules that can help objectively assign
  BI-RADS 4 subcategories and improve ultrasound’s ability to serve a
 s a biomarker. I will lead interactive case readings with an audience 
 response system, and we have time set aside for questions and answers.
 \n\nFor more information visit https://community.radrounds.com/events/
 breast-ultrasound-with-tom-stavros-hot-topics-in-advanced-1
DTSTART:20200117T123000Z
DTEND:20200119T173000Z
CATEGORIES:cme, conference
LOCATION:The Westin Riverwalk
WEBSITE:https://www.worldclasscme.com/conferences/breast-ultrasound-to
 m-stavros2/
URL:https://www.worldclasscme.com/conferences/breast-ultrasound-tom-st
 avros2/
CONTACT:888-207-9105
ORGANIZER:Audra Goetz
ATTACH;FMTTYPE="image/jpeg":
ATTENDEE;ROLE=REQ-PARTICIPANT;PARTSTAT=ACCEPTED;RSVP=TRUE;CN="JoAnn Co
 oke":https://community.radrounds.com/profile/JoAnnCooke
END:VEVENT
END:VCALENDAR
