BEGIN:VCALENDAR
PRODID:NingEventWidget-v1
VERSION:2.0
METHOD:PUBLISH
BEGIN:VEVENT
UID:1791588:Event:181045
DTSTAMP:20260421T113346Z
SUMMARY:Breast Ultrasound with Tom Stavros: Diagnosis, Screening, Stag
 ing, Biomarkers and Niche Applications
DESCRIPTION:Updated throughout for 2018, this well-received comprehens
 ive course on breast ultrasound, with an emphasis on a new classifica
 tion system on breast cancer, “non”-mass ultrasound findings, a lo
 ok at causes of false negative BI-RADS 3 classifications, and new ways
  of classifying breast nodules that can help objectively assign BI-RA
 DS 4 subcategories and improve ultrasound’s ability to serve as a b
 iomarker. In addition to faculty panel discussions with audience parti
 cipation, there will be numerous case presentations and time set asid
 e for questions and answers.\nRegister online and view full program de
 tails HERE\n24.75 AMA PRA Category 1 Credits™7.25 SAMs Credits\nTarg
 et Audience\nRadiologists and radiology residents/ fellows, breast sur
 geons, sonographers, radiology technologists and advanced practitioner
 s  who desire to learn, in depth, how to use breast ultrasound in a c
 linical practice setting for diagnosis, screening and staging of breas
 t disease.\nCourse enrollment is limited to 120 attendees\n\nFor more 
 information visit https://community.radrounds.com/events/breast-ultras
 ound-with-tom-stavros-diagnosis-screening-staging
DTSTART:20180920T040000Z
DTEND:20180924T035900Z
CATEGORIES:cme, continuing, medical, education, breast, ultrasound, ma
 mmography, stavros
LOCATION:The Ritz Carlton, Pentagon City
WEBSITE:https://www.worldclasscme.com/conferences/breast-ultrasound-to
 m-stavros-diagnosis-screening-staging-biomarkers-niche-applications/
URL:https://www.worldclasscme.com/conferences/breast-ultrasound-tom-st
 avros-diagnosis-screening-staging-biomarkers-niche-applications/
CONTACT:1-888-207-9105
ORGANIZER:World Class CME
ATTACH;FMTTYPE="image/jpeg":http://storage.ning.com/topology/rest/1.0/
 file/get/1044776823?profile=original
ATTENDEE;ROLE=REQ-PARTICIPANT;PARTSTAT=ACCEPTED;RSVP=TRUE;CN="JoAnn Co
 oke":https://community.radrounds.com/profile/JoAnnCooke
END:VEVENT
END:VCALENDAR
