BEGIN:VCALENDAR
PRODID:NingEventWidget-v1
VERSION:2.0
METHOD:PUBLISH
BEGIN:VEVENT
UID:1791588:Event:34149
DTSTAMP:20260419T175350Z
SUMMARY:Breast Ultrasound Registry Review
DESCRIPTION:Breast Ultrasound Registry Review\nSaturday, May 2, 2009\n
 Indianapolis, IN\n\nMEETING SPONSOR:\nMTMI\nBill Bresser\n20900 Swenso
 n Drive\nSuite 650\nWaukesha, WI 53186\nToll-Free 800-765-6864\n262-71
 7-9797\nFAX 262-717-9171\nEmail: bill@mtmi.net\nWebsite: http://www.mt
 mi.net/seminars/brusound_review.php\n\n\nCONFERENCE CENTER:\nTo Be Det
 ermined, Please See Website\nIndianapolis, IN\nWebsite: http://www.mtm
 i.net/seminars/brusound_review.php\n\n\nMEETING BROCHURE:\nTo view and
  print the meeting brochure, click here:\nhttp://www.mtmi.net/seminars
 /brusound_review.php\n\nMEETING DESCRIPTION:\nThis seminar can be used
  as an aid in preparing for both ARDMS an ARRT registry exams. It will
  provide an opportunity to learn ultrasound imaging techniques and to 
 upgrade your skills in this increasingly demanding role. Ultrasound ha
 s proven to be a very valuable and cost-effective tool for visualizing
  cystic and solid structures in the breast. Ultrasound provides a comp
 lementary imaging technique to mammography and together they provide i
 mproved detection of breast cancer. Special knowledge and skill is nee
 ded to fully utilize the capabilities of breast ultrasound. This semin
 ar will provide increased knowledge of the technical and clinical aspe
 cts of breast ultrasound and an overview of the basic principles and c
 oncepts of ultrasound. Growth in providing full service women’s heal
 th services includes efficient and thorough ultrasound imaging examina
 tions.\n\nThis program provides 8 hours of SDMS continuing education c
 redit for sonographers and 8 hours of Category A credit for radiologic
  technologists. A certificate of attendance will be provided to each i
 ndividual upon completion of the seminar. Individuals must attend the 
 entire seminar to receive full credit. Credit is awarded for sonograph
 ers and radiologic technologists as SDMS or ARRT Category A Credit app
 roved by the SDMS, and credit from various licensure states.\n\n\nINST
 RUCTORS:\nHenne\n\nCME HOURS: 8 hours SDMS or ARRT Category A credit\n
 \nLECTURE TOPICS:\nUltrasound\n\nACTIVITIES: not listed\n\nFor more in
 formation visit https://community.radrounds.com/events/breast-ultrasou
 nd-registry-2
DTSTART:20090502T040000Z
DTEND:20090503T035900Z
CATEGORIES:breast, ultrasound, registry, review
LOCATION:Indianapolis, IN
WEBSITE:http://radlist.com/meeting.asp?meeting_id=4102
URL:http://radlist.com/meeting.asp?meeting_id=4102
CONTACT:
ORGANIZER:MTMI
ATTACH;FMTTYPE="image/jpeg":
ATTENDEE;ROLE=REQ-PARTICIPANT;PARTSTAT=ACCEPTED;RSVP=TRUE;CN="radRound
 s Radiology Events":https://community.radrounds.com/profile/radRoundsR
 adiologyEvents
END:VEVENT
END:VCALENDAR
