BEGIN:VCALENDAR
PRODID:NingEventWidget-v1
VERSION:2.0
METHOD:PUBLISH
BEGIN:VEVENT
UID:1791588:Event:123282
DTSTAMP:20260421T121534Z
SUMMARY:Breast Ultrasound
DESCRIPTION:The importance of ultrasound as an adjunct procedure to ma
 mmography is well documented.  The normal anatomy, physiology, and pa
 thologic conditions evaluated by ultrasound will be the basis of this 
 educational activity. The increased utilization of breast ultrasound r
 equires clinicians to integrate the fundamentals of sonography and mam
 mography to enhance the value of breast ultrasound.  The course combi
 nes classroom learning with practical hands on scanning to maximize th
 e learning experience.  Ultrasound-guided interventional procedures a
 nd examination of breast implants will be discussed. Case studies will
  be utilized to correlate the mammogram with the breast ultrasound, an
 d to recognize breast ultrasound artifacts.\n\nFor more information vi
 sit https://community.radrounds.com/events/breast-ultrasound-6
DTSTART:20120908T120000Z
DTEND:20120909T210000Z
CATEGORIES:ce, course
LOCATION:Advanced Health Education Center
WEBSITE:http://store.aheconline.com/DisplayDetail.aspx?pid=7023
URL:http://store.aheconline.com/DisplayDetail.aspx?pid=7023
CONTACT:800-239-1361
ORGANIZER:Advanced Health Education Center
ATTACH;FMTTYPE="image/jpeg":
ATTENDEE;ROLE=REQ-PARTICIPANT;PARTSTAT=ACCEPTED;RSVP=TRUE;CN="Larry Ca
 rney":https://community.radrounds.com/profile/LarryCarney
END:VEVENT
END:VCALENDAR
