BEGIN:VCALENDAR
PRODID:NingEventWidget-v1
VERSION:2.0
METHOD:PUBLISH
BEGIN:VEVENT
UID:1791588:Event:158740
DTSTAMP:20260421T074511Z
SUMMARY:Breast Ultrasound
DESCRIPTION:The importance of ultrasound as an adjunct procedure to ma
 mmography is well documented. The normal anatomy, physiology, and path
 ologic conditions evaluated by ultrasound will be the basis of this ed
 ucational activity. The increased utilization of breast ultrasound req
 uires clinicians to integrate the fundamentals of sonography and mammo
 graphy to enhance the value of breast ultrasound. The course combines 
 classroom learning with practical hands-on scanning to maximize the le
 arning experience. Ultrasound-guided interventional procedures and exa
 mination of breast implants will be discussed. Case studies will be ut
 ilized to correlate the mammogram with the breast ultrasound, and to r
 ecognize breast ultrasound artifacts.\n\nFor more information visit ht
 tps://community.radrounds.com/events/breast-ultrasound-16
DTSTART:20150606T040000Z
DTEND:20150608T035900Z
CATEGORIES:seminar
LOCATION:AHEC
WEBSITE:
URL:
CONTACT:713-772-0154
ORGANIZER;CN="Larry Carney":https://community.radrounds.com/profile/La
 rryCarney
ATTACH;FMTTYPE="image/jpeg":
ATTENDEE;ROLE=REQ-PARTICIPANT;PARTSTAT=ACCEPTED;RSVP=TRUE;CN="Larry Ca
 rney":https://community.radrounds.com/profile/LarryCarney
END:VEVENT
END:VCALENDAR
