BEGIN:VCALENDAR
PRODID:NingEventWidget-v1
VERSION:2.0
METHOD:PUBLISH
BEGIN:VEVENT
UID:1791588:Event:153794
DTSTAMP:20260420T044451Z
SUMMARY:Breast Tomosynthesis Workshop
DESCRIPTION:Participants will receive individual instruction in Tomosy
 nthesis interpretation by expert faculty, at their own clinical workst
 ations while reviewing over 100 clinical Tomosynthesis data sets with 
 accompanying standard mammography. The course will not only fulfill th
 e FDA training requirement, but will also provide a unique opportunity
  to assess the potential impact Tomosynthesis could have for a physici
 an’s practice.\n\nFor more information visit https://community.radro
 unds.com/events/breast-tomosynthesis-workshop-1
DTSTART:20140606T040000Z
DTEND:20140608T035900Z
CATEGORIES:breast, imaging, mammography, tomosynthesis, radiology
LOCATION:The David Ellenbogen Center for Health sciences Education
WEBSITE:http://www.worldclasscme.com/conferences/breast-tomosynthesis-
 workshop2/
URL:http://www.worldclasscme.com/conferences/breast-tomosynthesis-work
 shop2/
CONTACT:(980) 819-5095
ORGANIZER:World Class CME
ATTACH;FMTTYPE="image/jpeg":http://storage.ning.com/topology/rest/1.0/
 file/get/1044759103?profile=original
ATTENDEE;ROLE=REQ-PARTICIPANT;PARTSTAT=ACCEPTED;RSVP=TRUE;CN="JoAnn Co
 oke":https://community.radrounds.com/profile/JoAnnCooke
END:VEVENT
END:VCALENDAR
