BEGIN:VCALENDAR
PRODID:NingEventWidget-v1
VERSION:2.0
METHOD:PUBLISH
BEGIN:VEVENT
UID:1791588:Event:181039
DTSTAMP:20260420T044504Z
SUMMARY:Breast Tomosynthesis One Day Workshop
DESCRIPTION:This is a one day course. Choose whether to attend April 2
 1 or 22.\nThis workshop features a one-day eight-hour comprehensive tr
 aining program in Breast Tomosynthesis that fulfills the FDA-mandated 
 training requirement for a new imaging modality. Participants will rec
 eive individual instruction in tomosynthesis interpretation at their o
 wn clinical workstations while reviewing over 100 clinical tomosynthes
 is data sets with accompanying standard mammography.\nView full worksh
 op details and register online HERE\n8 AMA PRA Category 1 Credits™.
  This course is only suitable for physicians   \nThis is a very popu
 lar course with limited seating. We are utilizing new reading stations
  that further limits capacity to 28 people per day.\n\nFor more inform
 ation visit https://community.radrounds.com/events/breast-tomosynthesi
 s-one-day-workshop
DTSTART:20180421T040000Z
DTEND:20180423T035900Z
CATEGORIES:cme, continuing, medical, education, mammography, breast, i
 maging, tomosynthesis, 3d
LOCATION:The Westin NY at Times Square
WEBSITE:http://www.westinny.com/
URL:http://www.westinny.com/
CONTACT:1-888-627-7149
ORGANIZER:World Class CME
ATTACH;FMTTYPE="image/jpeg":http://storage.ning.com/topology/rest/1.0/
 file/get/1044774479?profile=original
ATTENDEE;ROLE=REQ-PARTICIPANT;PARTSTAT=ACCEPTED;RSVP=TRUE;CN="JoAnn Co
 oke":https://community.radrounds.com/profile/JoAnnCooke
END:VEVENT
END:VCALENDAR
