BEGIN:VCALENDAR
PRODID:NingEventWidget-v1
VERSION:2.0
METHOD:PUBLISH
BEGIN:VEVENT
UID:1791588:Event:160349
DTSTAMP:20260420T084132Z
SUMMARY:Breast Tomosynthesis Imaging Workshop
DESCRIPTION:This workshop features a one-day eight-hour comprehensive 
 training program in Breast Tomosynthesis that fulfills the FDA-mandate
 d training requirement for a new imaging modality. Participants will r
 eceive individual instruction in tomosynthesis interpretation at their
  own clinical workstations while reviewing over 100 clinical tomosynth
 esis data sets with accompanying standard mammography.  The course wi
 ll not only fulfill the FDA training requirement, but will also provid
 e a unique opportunity to assess the potential impact Tomosynthesis co
 uld have for a physician’s practice.  This class is only suitable f
 or physicians and will be limited to 40 attendees.  Choose which day 
 to attend - April 18 or April 19.  Provides 8 AMA PRA Category 1 Cred
 its.\nRegister Online and see Full Program Agenda HERE\n\nFor more inf
 ormation visit https://community.radrounds.com/events/breast-tomosynth
 esis-imaging-workshop-1
DTSTART:20150418T040000Z
DTEND:20150420T035900Z
CATEGORIES:accredited, cme, in, breast, tomosynthesis, imaging
LOCATION:The Westin NY at Times Square
WEBSITE:http://www.worldclasscme.com/conferences/breast-tomosynthesis-
 workshop4/
URL:http://www.worldclasscme.com/conferences/breast-tomosynthesis-work
 shop4/
CONTACT:980-819-5095
ORGANIZER:World Class CME (www.worldclasscme.com)
ATTACH;FMTTYPE="image/jpeg":http://storage.ning.com/topology/rest/1.0/
 file/get/1044763950?profile=original
ATTENDEE;ROLE=REQ-PARTICIPANT;PARTSTAT=ACCEPTED;RSVP=TRUE;CN="JoAnn Co
 oke":https://community.radrounds.com/profile/JoAnnCooke
END:VEVENT
END:VCALENDAR
