BEGIN:VCALENDAR
PRODID:NingEventWidget-v1
VERSION:2.0
METHOD:PUBLISH
BEGIN:VEVENT
UID:1791588:Event:73238
DTSTAMP:20260425T141717Z
SUMMARY:Breast MRI: Science, Technique, and Interpretation Including C
 linical Correlation and Recent Developments
DESCRIPTION:21st Annual International MRI Workshop\n\nBreast MRI: Scie
 nce, Technique and Interpretation,\nIncluding Clinical Correlation and
  Recent Developments\n\nNovember 20-21, 2011\n\nFour Seasons Hotel\nCh
 icago, Illinois\n\n46 AMA PRA (Physician Recognition Award) Category 1
  Credits™\n\nBREAST MRI MODULE: 16 CME\n\nBreast MRI merges the two-
 dimensional morphologic assessment of mammography with the soft-tissue
  signal characterization of MRI, adding the distinct advantage of angi
 ogenesis evaluation. Learning the MRI appearance of different histolog
 ies and differentiating them from benign causes of tissue enhancement 
 is a nuanced task.\n\nThis course incorporates a detailed synopsis of 
 breast MRI science, technique, and interpretation based on more than 2
 0,000 cases of experience. It also explains its place within the milie
 u of total breast imaging and care. Numerous “live” case discussio
 ns are included to supplement the course lectures.\n\nADVANCED ORTHOPA
 EDIC AND JOINT MRI MODULE : 30 CME\n\nThis advanced course provides pr
 actical approaches and state-of-the-art updates to interpreting wrist,
  hand, ankle, foot, toe, elbow, shoulder, hip, and knee joint MRI exam
 s. The program includes anatomy and mechanisms of injury, and such rep
 resentative topics as the throwing athlete, synovial diseases, detaile
 d shoulder and hip labral interpretation, and hip femoroactabular impi
 ngement. Talks are supplemented by live case reading sessions.\n\nWHO 
 SHOULD ATTEND\n\nRadiologists\nMR specialists\nImaging physicians\nOrt
 hopaedic surgeons\nGeneral Surgeons\nBreast surgeons\nReferring clinic
 ians\nMammographers\n\nCOURSE OBJECTIVES\nParticipants who complete th
 is activity should be able to:\n• Breast MRI Module\n• Improve the
 ir interpretation of breast MRI, allowing for practice improvement and
  better patient care.\n• Gain a better understanding of the screenin
 g and diagnostic modalities' strengths and weaknesses.\n• Come away 
 with greater knowledge of the applications, reimbursement, and outcome
 s of breast MRI.\n• Advanced Orthopaedic and Joint MRI Module\n• I
 dentify normal anatomy and variations, as well as pathology of the mus
 culoskeletal system.\n• Recognize indications and applications of ma
 gnetic resonance imaging and other advanced imaging modalities for bon
 e and soft tissues .\n• Discuss a multidisciplinary approach to pati
 ent management, allowing for practice improvement and better patient c
 are.\n\nPHYSICIANS\nProScan Imaging Education Foundation is Accredited
  with Commendation by the Accreditation Council for Continuing Medical
  Education (ACCME) to provide continuing medical education for physici
 ans.\n\nACCREDITATION\nThis activity has been planned and implemented 
 in accordance with the Essentials and Standards of ACCME.\n\nDESIGNATI
 ON\nProScan Imaging Education Foundation designates this educational a
 ctivity for a maximum of 46 AMA PRA (Physician Recognized Award) Categ
 ory 1 Credits.™ Physicians should only claim credit commensurate wit
 h the extent of their participation.\n\nFACULTY\nStephen J. Pomeranz, 
 M.D.\n\nHOW TO REGISTER\nNOTE: Our courses often fill up quickly, so w
 e strongly recommend you DO NOT make travel reservations until you hav
 e received a registration confirmation from us.\nPhone Call 513-924-53
 65\n1-866-MRI-EDUC (1-866-674-3382) (toll-free in the U.S.)\nSomeone w
 ill be available to take your call between 8:00 am and 5:00 pm EST\nFa
 x 513-352-9424\nMail ProScan Imaging Education Foundation\nCourse Regi
 stration\n5400 Kennedy Avenue\nCincinnati, OH 45213\nE-mail mrieducati
 on@proscan.com\n\nFor more information visit https://community.radroun
 ds.com/events/breast-mri-science-technique-4
DTSTART:20111120T050000Z
DTEND:20111122T045900Z
CATEGORIES:workshop
LOCATION:Four Seasons Hotel
WEBSITE:http://www.proscan.com/fw/main/November-2011-International-152
 3.html
URL:http://www.proscan.com/fw/main/November-2011-International-1523.ht
 ml
CONTACT:513-924-5365
ORGANIZER:ProScan Imaging Education Foundation
ATTACH;FMTTYPE="image/jpeg":
ATTENDEE;ROLE=REQ-PARTICIPANT;PARTSTAT=ACCEPTED;RSVP=TRUE;CN="radRound
 s Radiology Events":https://community.radrounds.com/profile/radRoundsR
 adiologyEvents
END:VEVENT
END:VCALENDAR
