BEGIN:VCALENDAR
PRODID:NingEventWidget-v1
VERSION:2.0
METHOD:PUBLISH
BEGIN:VEVENT
UID:1791588:Event:116452
DTSTAMP:20260422T204108Z
SUMMARY:Breast MR with Guided Biopsy
DESCRIPTION:Breast MR with Guided Biopsy Monday, May 21, 2012 - Tuesda
 y, May 22, 2012American College of Radiology (ACR) Reston, Virginia (V
 A), United StatesProvided by American College of Radiology (ACR)  CME 
 Provider: American College of Radiology (ACR) 1891 Preston White Drive
 Reston, Virginia (VA) 20191United States\nToll Free: (800) 373-2204Pho
 ne: (800) 373-2204\n\nConference Center:American College of Radiology 
 (ACR) ACR Education Center1891 Preston White DriveReston, Virginia (VA
 ) 20191United States\nToll Free: (800) 373-2204Phone: (800) 373-2204\n
  Description:This 100-case, two-day course, led by Constance Lehman, M
 .D. Ph.D., is designed to provide practicing radiologists with an inte
 nsive, hands-on experience in reading breast MRI. Throughout the 2-day
  program, participants will develop their interpretive skills through 
 extensive case reviews at individual workstations. In addition, hands-
 on MRI guided biopsy workshops will provide training in accurate and s
 afe MRI guided biopsy techniques.\nSelf Assessment Module (SAM): Yes\n
 Instructors:Constance Lehman, MD, PhDProfessor and Vice Chair of Radio
 logyDirector of Breast Imaging, University of WashingtonDirector of Ra
 diology, Seattle Cancer Care AllianceSeattle, WA\nSpecialty Audience:R
 adiology\n\nFor more information visit https://community.radrounds.com
 /events/breast-mr-with-guided-biopsy-10
DTSTART:20120521T040000Z
DTEND:20120523T035900Z
CATEGORIES:radiology
LOCATION:American College of Radiology (ACR) - ACR Education Center
WEBSITE:http://www.acr.org/educenter
URL:http://www.acr.org/educenter
CONTACT:(800) 373-2204
ORGANIZER:American College of Radiology (ACR)
ATTACH;FMTTYPE="image/jpeg":
ATTENDEE;ROLE=REQ-PARTICIPANT;PARTSTAT=ACCEPTED;RSVP=TRUE;CN="radRound
 s Radiology Events":https://community.radrounds.com/profile/radRoundsR
 adiologyEvents
END:VEVENT
END:VCALENDAR
