BEGIN:VCALENDAR
PRODID:NingEventWidget-v1
VERSION:2.0
METHOD:PUBLISH
BEGIN:VEVENT
UID:1791588:Event:115843
DTSTAMP:20260424T112532Z
SUMMARY:Breast Imaging, Intervention & Innovations
DESCRIPTION:Breast Imaging, Intervention & Innovations Friday, Februar
 y 24, 2012 - Sunday, February 26, 2012Four Seasons Hotel Las Vegas, Ne
 vada (NV), United StatesProvided by Institute for Advanced Medical Edu
 cation (IAME)  CME Provider: Institute for Advanced Medical Education 
 (IAME) Registrar54 Hearthstone LaneSouth Londonderry, Vermont (VT) 051
 55United States\nPhone: (802) 824-4433Fax: (802) 824-3737\n\nConferenc
 e Center:Four Seasons Hotel 3960 Las Vegas Boulevard SouthLas Vegas, N
 evada (NV) 89119United States\nPhone: (702) 632-5000Fax: (702) 632-519
 5\nDescription:Conference Co-Chairs: Ellen Mendelson, MD and Thomas St
 avros, MD\nWe've invited a great faculty to update you on digital mamm
 ography and CAD, research in breast screening with MRI and ultrasound 
 and current work on percutaneous, image guided procedures. Highlights 
 of this conference are the afternoon hands-on workshops on screening w
 ith automated ultrasound, ultrasound-guided inteventional procedures a
 nd MRI-guided interventional procedures.\nEarn up to 19 CME credits.\n
 Self Assessment Module (SAM): Yes\nInstructors:CONFERENCE CO-CHAIRS:\n
 Ellen B. Mendelson, MDProfessor of RadiologyChief, Section of Breast I
 magingLynn Sage Breast CenterNorthwestern UniversityChicago, IL\nA. Th
 omas Stavros, MDRadiologistSutter Pacific Women's Health CenterSanta R
 osa, CA\nFACULTY:\nBenjamin O. Anderson, MDDirector, Breast Health Cli
 nicSeattle Cancer Care AllianceProfessor of Surgery and Global Health 
 MedicineUniversity of WashingtonSeattle, WA\nWendie Berg, MD, PhDVisit
 ing Professor of RadiologyUniversity of Pittsburgh School of MedicineM
 agee-Womens HospitalPittsburgh, PA\nStephen A. Feig, MD, FACRDirector,
  Breast ImagingProfessor of RadiologyUniversity of California, IrvineS
 chool of MedicineOrange, CA\nJulio A. Ibarra, MDAssociate Professor, P
 athologyUniversity of California, IrvineMedical Director of PathologyM
 emorialCare Breast Evaluation CenterOrange Coast Memorial Medical Cent
 erFountain Valley, CA\nCarol H. Lee, MDProfessor, Department of Radiol
 ogyWeill College of Medicine, Cornell UniversityAttending RadiologistM
 emorial Sloan-Kettering Cancer CenterNew York, NY\nWei Yang, MDProfess
 or and Vice ChairChief, Breast Imaging SectionDepartment of Diagnostic
  RadiologyThe University of Texas M.D. Anderson Cancer CenterHouston, 
 TX\nSpecialty Audience:Radiology\n\nFor more information visit https:/
 /community.radrounds.com/events/breast-imaging-intervention-innovation
 s
DTSTART:20120224T050000Z
DTEND:20120227T045900Z
CATEGORIES:radiology
LOCATION:Four Seasons Hotel
WEBSITE:http://www.fourseasons.com/lasvegas/
URL:http://www.fourseasons.com/lasvegas/
CONTACT:(702) 632-5000
ORGANIZER:Institute for Advanced Medical Education (IAME)
ATTACH;FMTTYPE="image/jpeg":
ATTENDEE;ROLE=REQ-PARTICIPANT;PARTSTAT=ACCEPTED;RSVP=TRUE;CN="radRound
 s Radiology Events":https://community.radrounds.com/profile/radRoundsR
 adiologyEvents
END:VEVENT
END:VCALENDAR
