BEGIN:VCALENDAR
PRODID:NingEventWidget-v1
VERSION:2.0
METHOD:PUBLISH
BEGIN:VEVENT
UID:1791588:Event:188090
DTSTAMP:20260424T174741Z
SUMMARY:Breast Imaging for Today's Radiologist
DESCRIPTION:World Class CME presents, with the support of an education
 al grant provided by Hologic, a breast imaging weekend for radiologist
 s. This weekend will feature eight hours of comprehensive hands-on tom
 osynthesis training at dedicated mammography workstations, as well as 
 many topics facing radiologists today from dense breast regulations to
  contrast-enhanced mammography. Faculty will also explore implementing
  tomosynthesis into a practice, advancements in breast imaging technol
 ogy, high resolution imaging, 3D-guided biopsy and artificial intellig
 ence. The course will be limited to 30 attendees. Upon completion of t
 he two days, you will receive a certificate for your required eight ho
 urs of tomosynthesis training.  14 AMA PRA Category 1 Credits™\n\nFo
 r more information visit https://community.radrounds.com/events/breast
 -imaging-for-today-s-radiologist
DTSTART:20190330T040000Z
DTEND:20190401T035900Z
CATEGORIES:cme
LOCATION:The Westin Nashville
WEBSITE:https://www.worldclasscme.com/conferences/breast-imaging-today
 s-radiologist/
URL:https://www.worldclasscme.com/conferences/breast-imaging-todays-ra
 diologist/
CONTACT:980-819-5095
ORGANIZER:World Class CME
ATTACH;FMTTYPE="image/jpeg":https://storage.ning.com/topology/rest/1.0
 /file/get/1190075887?profile=original
ATTENDEE;ROLE=REQ-PARTICIPANT;PARTSTAT=ACCEPTED;RSVP=TRUE;CN="JoAnn Co
 oke":https://community.radrounds.com/profile/JoAnnCooke
END:VEVENT
END:VCALENDAR
