BEGIN:VCALENDAR
PRODID:NingEventWidget-v1
VERSION:2.0
METHOD:PUBLISH
BEGIN:VEVENT
UID:1791588:Event:172484
DTSTAMP:20260422T083322Z
SUMMARY:Breast Imaging: Covering Your Bases (Live Event)
DESCRIPTION:Course Topics:\n\nPositioning\nImplants\nMammography and t
 he Transgender Patient\nEmerging Breast Technologies\nDense Breasts\nB
 reast Cancer\n\n\nFor more information visit https://community.radroun
 ds.com/events/breast-imaging-covering-your-bases-live-event-2
DTSTART:20171014T120000Z
DTEND:20171014T201500Z
CATEGORIES:live, event
LOCATION:TBD
WEBSITE:https://store.aheconline.com/index.php?route=product/product&p
 ath=59&product_id=3160
URL:https://store.aheconline.com/index.php?route=product/product&path=
 59&product_id=3160
CONTACT:800-239-1361
ORGANIZER;CN="Larry Carney":https://community.radrounds.com/profile/La
 rryCarney
ATTACH;FMTTYPE="image/jpeg":
ATTENDEE;ROLE=REQ-PARTICIPANT;PARTSTAT=ACCEPTED;RSVP=TRUE;CN="Larry Ca
 rney":https://community.radrounds.com/profile/LarryCarney
END:VEVENT
END:VCALENDAR
