BEGIN:VCALENDAR
PRODID:NingEventWidget-v1
VERSION:2.0
METHOD:PUBLISH
BEGIN:VEVENT
UID:1791588:Event:116361
DTSTAMP:20260421T154518Z
SUMMARY:Breast Imaging Boot Camp
DESCRIPTION:Breast Imaging Boot Camp Thursday, April 26, 2012 - Saturd
 ay, April 28, 2012American College of Radiology (ACR) Reston, Virginia
  (VA), United StatesProvided by American College of Radiology (ACR)  C
 ME Provider: American College of Radiology (ACR) 1891 Preston White Dr
 iveReston, Virginia (VA) 20191United States\nToll Free: (800) 373-2204
 Phone: (800) 373-2204\n\nConference Center:American College of Radiolo
 gy (ACR) ACR Education Center1891 Preston White DriveReston, Virginia 
 (VA) 20111United States\nToll Free: (800) 373-2204Phone: (800) 373-220
 4\nDescription:This three-day course, led by Gillian M. Newstead, MD, 
 FACR, Robert A. Schmidt, MD, Michael N. Linver, MD, FACR, and Christop
 her Comstock, MD is designed to provide practicing radiologists with a
 n intensive hands-on experience to breast imaging. Throughout the 3-da
 y program, participants will develop their interpretive expertise in t
 he evaluation of mammography studies by hands-on interpretation of ove
 r 240 digital screening and diagnostic mammograms at their own individ
 ual PACS digital workstation. Participants will enhance their percepti
 ve skills with direct assistance from a panel of expert radiologists. 
 Specific instruction in the use and application of computer-aided tech
 niques will also be provided. In addition, interventional workshops wi
 ll be available in breast ultrasound and stereotactic biopsy.\nSelf As
 sessment Module (SAM): Yes\nInstructors:Gillian Newstead, MD, FACRSect
 ion Chief Breast ImagingUniversity of ChicagoChicago, IL\nSpecialty Au
 dience:Radiology\n\nFor more information visit https://community.radro
 unds.com/events/breast-imaging-boot-camp-5
DTSTART:20120426T040000Z
DTEND:20120429T035900Z
CATEGORIES:radiology
LOCATION:American College of Radiology (ACR)
WEBSITE:http://www.acr.org/educenter
URL:http://www.acr.org/educenter
CONTACT:(800) 373-2204
ORGANIZER:American College of Radiology (ACR)
ATTACH;FMTTYPE="image/jpeg":
ATTENDEE;ROLE=REQ-PARTICIPANT;PARTSTAT=ACCEPTED;RSVP=TRUE;CN="radRound
 s Radiology Events":https://community.radrounds.com/profile/radRoundsR
 adiologyEvents
END:VEVENT
END:VCALENDAR
