BEGIN:VCALENDAR
PRODID:NingEventWidget-v1
VERSION:2.0
METHOD:PUBLISH
BEGIN:VEVENT
UID:1791588:Event:186911
DTSTAMP:20260419T141557Z
SUMMARY:Breast Imaging at the Cell Level (Live Webinar)
DESCRIPTION:Course Topics:\n\n  Advancements in Breast Imaging\n  M
 olecular Breast Imaging\n  Conventional PET Imaging\n  Case Studies\
 n\nAt the conclusion of the course the participant should be able to:\
 n\n  Understand what molecular breast imaging is\n  Discuss the dif
 ference in imaging uses for MRI, PET and Molecular Breast Imaging\n  
 List a major advantage of Molecular Breast Imaging vs. Routine Mammogr
 aphy\n  Describe “cancer glasses”\n\n\nFor more information visit
  https://community.radrounds.com/events/breast-imaging-at-the-cell-lev
 el-live-webinar
DTSTART:20190208T140000Z
DTEND:20190208T160000Z
CATEGORIES:live, webinar
LOCATION:Advanced Health Education Center
WEBSITE:https://store.aheconline.com/
URL:https://store.aheconline.com/
CONTACT:1(800) 239-1361
ORGANIZER:AHEC
ATTACH;FMTTYPE="image/jpeg":
ATTENDEE;ROLE=REQ-PARTICIPANT;PARTSTAT=ACCEPTED;RSVP=TRUE;CN="Larry Ca
 rney":https://community.radrounds.com/profile/LarryCarney
END:VEVENT
END:VCALENDAR
