BEGIN:VCALENDAR
PRODID:NingEventWidget-v1
VERSION:2.0
METHOD:PUBLISH
BEGIN:VEVENT
UID:1791588:Event:186653
DTSTAMP:20260419T215103Z
SUMMARY:Breast Imaging at the Cell Level (Live Webinar)
DESCRIPTION:Course Topics:\n\n  Advancements in Breast Imaging\n  M
 olecular Breast Imaging\n  Conventional PET Imaging\n  Case Studies\
 n\nAt the conclusion of the course the participant should be able to:\
 n\nUnderstand what molecular breast imaging is\nDiscuss the difference
  in imaging uses for MRI, PET and Molecular Breast Imaging\nList a maj
 or advantage of Molecular Breast Imaging vs. Routine Mammography\nDesc
 ribe “cancer glasses”\n\n\nFor more information visit https://comm
 unity.radrounds.com/events/breast-imaging-at-the-cell-level-live-webin
 ar-1
DTSTART:20190211T180000Z
DTEND:20190211T200000Z
CATEGORIES:live, webinar
LOCATION:Advanced Health Education Center
WEBSITE:https://store.aheconline.com/
URL:https://store.aheconline.com/
CONTACT:1(800) 239-1361
ORGANIZER:AHEC
ATTACH;FMTTYPE="image/jpeg":
ATTENDEE;ROLE=REQ-PARTICIPANT;PARTSTAT=ACCEPTED;RSVP=TRUE;CN="Larry Ca
 rney":https://community.radrounds.com/profile/LarryCarney
END:VEVENT
END:VCALENDAR
