BEGIN:VCALENDAR
PRODID:NingEventWidget-v1
VERSION:2.0
METHOD:PUBLISH
BEGIN:VEVENT
UID:1791588:Event:115755
DTSTAMP:20260424T125637Z
SUMMARY:Breast & Body : State of the Art Imaging In Aruba
DESCRIPTION:Breast & Body : State of the Art Imaging In Aruba Monday, 
 February 20, 2012 - Friday, February 24, 2012Westin Resort Hotel and C
 asino Palm Beach, ArubaProvided by University of Ottawa  CME Provider:
  University of Ottawa Sandra LeslieThe University of Ottawa501 Smyth R
 oad, Rm M1466BOttawa, K1H 8L6Canada\nPhone: (613) 737-8899 x 72084Fax:
  (613) 737-8830\n\nConference Center:Westin Resort Hotel and Casino J.
 E. Irausquin Blvd. 77Palm Beach, Aruba\nPhone: (011)(297) 586 4466\nDe
 scription:This course will include in-depth topics related to advanced
  breast imaging and cross-sectional abdomino-pelvic imaging. State-of-
 the-art topics will include: breast MRI and diffusion-weighted imaging
 , breast specific Gamma imaging, tomosynthesis, mammography, breast ul
 trasound, and biopsy and liver MRI.\nIn addition, pelvic sonography gu
 idelines and pearlys for hernia evaluation will be covered. We will al
 so be holding sessions on radiation safety in breast and abdomino-pelv
 ic imaging and departmental quality assurance.\nSelf Assessment Module
  (SAM): No\nInstructors:We are pleased to confirm the following Guest 
 Faculty:\nBruce A. Porter MD, FACR Comprehensive Breast Cancer Program
 , Swedish Cancer Institute, Seattle , Washington, USA.\nand\nHero Huss
 ain MDAssociate Professor, Chief, Body MRI, Director of Clinical MRI S
 ervice, University of Michigan, Ann Arbor, Michigan, USA.\nUniversity 
 of Ottawa Faculty:Co-Course Directors: Ania Z. Kielar, MD, FRCPC and J
 ean Seely, MD,FRCPC\nFaculty:Geoff Doherty, MD, FRCPCD. Blair Macdonal
 d, MD,FRCPCShilpa Lad, MD\nSpecialty Audience:Family MedicineObstetric
 s / GynecologyPathologyRadiologySurgery\n\nFor more information visit 
 https://community.radrounds.com/events/breast-body-state-of-the-art-im
 aging-in-aruba
DTSTART:20120220T050000Z
DTEND:20120225T045900Z
CATEGORIES:radiology
LOCATION:Westin Resort Hotel and Casino
WEBSITE:http://www.westin.com/aruba
URL:http://www.westin.com/aruba
CONTACT:(011)(297) 586 4466
ORGANIZER:University of Ottawa
ATTACH;FMTTYPE="image/jpeg":
ATTENDEE;ROLE=REQ-PARTICIPANT;PARTSTAT=ACCEPTED;RSVP=TRUE;CN="radRound
 s Radiology Events":https://community.radrounds.com/profile/radRoundsR
 adiologyEvents
END:VEVENT
END:VCALENDAR
