BEGIN:VCALENDAR
PRODID:NingEventWidget-v1
VERSION:2.0
METHOD:PUBLISH
BEGIN:VEVENT
UID:1791588:Event:115263
DTSTAMP:20260425T082704Z
SUMMARY:Bone Densitometry: Principles and Procedures
DESCRIPTION:Bone Densitometry: Principles and Procedures Saturday, Jan
 uary 21, 2012 - Sunday, January 22, 2012Doubletree Club Las Vegas Airp
 ort Las Vegas, Nevada (NV), United StatesProvided by Advanced Health E
 ducation Center  CME Provider: Advanced Health Education Center 8502 T
 ybor DriveHouston, Texas (TX) 77074United States\nToll Free: (800) 239
 -1361Phone: (713) 772-0157Fax: (713) 772-0155\n\nConference Center:Dou
 bletree Club Las Vegas Airport 7250 Pollock DriveLas Vegas, Nevada (NV
 ) 89119United States\nPhone: (702) 948-4000\nDescription:Bone densitom
 etry is a very hot topic. It is proving to be a key tool in the diagno
 sis and treatment outcomes of osteoporosis. There are an estimated 44 
 million Americans affected by osteoporosis each year. The cost of mana
 ging the consequences of this disease cost the health care system in t
 he United States billions of dollars. The inclusion of bone densitomet
 ry as a reimbursable Medicare procedure has focused attention on who i
 s performing the procedures and on personnel training requirements. Th
 is comprehensive training program will prepare you to meet and exceed 
 the current training requirements. Every aspect of principles, theory,
  practical knowledge and skills to perform bone densitometry will be h
 ighlighted. This course will meet the needs of those new to the field 
 or those wishing to expand their knowledge beyond the “how to’s”
 .\nThe comprehensive program was developed by an ARRT registered and I
 SCD credentialed densitometrist and includes topics that will assist t
 hose interested in credentials through the International Society of Cl
 inical Densitometry and the ARRT Registry for Bone Densitometry. This 
 course is designed for all healthcare professionals who are planning t
 o or are currently performing bone densitometry measurements in either
  clinical practice, women's healthcare or imaging facilities.\nSelf As
 sessment Module (SAM): No\nInstructors:Lesa Mohr, RT(R)(QM)(BD)\nSpeci
 alty Audience:Radiology\n\nFor more information visit https://communit
 y.radrounds.com/events/bone-densitometry-principles-and-procedures
DTSTART:20120121T050000Z
DTEND:20120123T045900Z
CATEGORIES:radiology
LOCATION:Doubletree Club Las Vegas Airport
WEBSITE:http://doubletree1.hilton.com/en_US/dt/hotel/LASCHDT-DoubleTre
 e-by-Hilton-Hotel-Las-Vegas-Airport-Nevada/index.do
URL:http://doubletree1.hilton.com/en_US/dt/hotel/LASCHDT-DoubleTree-by
 -Hilton-Hotel-Las-Vegas-Airport-Nevada/index.do
CONTACT:(702) 948-4000
ORGANIZER:Advanced Health Education Center
ATTACH;FMTTYPE="image/jpeg":
ATTENDEE;ROLE=REQ-PARTICIPANT;PARTSTAT=ACCEPTED;RSVP=TRUE;CN="radRound
 s Radiology Events":https://community.radrounds.com/profile/radRoundsR
 adiologyEvents
END:VEVENT
END:VCALENDAR
