BEGIN:VCALENDAR
PRODID:NingEventWidget-v1
VERSION:2.0
METHOD:PUBLISH
BEGIN:VEVENT
UID:1791588:Event:116456
DTSTAMP:20260422T185548Z
SUMMARY:Bone Densitometry: Principles and Procedures
DESCRIPTION:Bone Densitometry: Principles and Procedures Saturday, Jun
 e 02, 2012 - Sunday, June 03, 2012Advanced Health Education Center Hou
 ston, Texas (TX), United StatesProvided by Advanced Health Education C
 enter  CME Provider: Advanced Health Education Center 8502 Tybor Drive
 Houston, Texas (TX) 77074United States\nToll Free: (800) 239-1361Phone
 : (713) 772-0157Fax: (713) 772-0155\n\nConference Center:Advanced Heal
 th Education Center 8502 Tybor DriveHouston, Texas (TX) 77074United St
 ates\nPhone: (800) 239-1361\nDescription:Bone densitometry is a very h
 ot topic. It is proving to be a key tool in the diagnosis and treatmen
 t outcomes of osteoporosis. There are an estimated 44 million American
 s affected by osteoporosis each year. The cost of managing the consequ
 ences of this disease cost the health care system in the United States
  billions of dollars. The inclusion of bone densitometry as a reimburs
 able Medicare procedure has focused attention on who is performing the
  procedures and on personnel training requirements. This comprehensive
  training program will prepare you to meet and exceed the current trai
 ning requirements. Every aspect of principles, theory, practical knowl
 edge and skills to perform bone densitometry will be highlighted. This
  course will meet the needs of those new to the field or those wishing
  to expand their knowledge beyond the “how to’s”.\nThe comprehen
 sive program was developed by an ARRT registered and ISCD credentialed
  densitometrist and includes topics that will assist those interested 
 in credentials through the International Society of Clinical Densitome
 try and the ARRT Registry for Bone Densitometry. This course is design
 ed for all healthcare professionals who are planning to or are current
 ly performing bone densitometry measurements in either clinical practi
 ce, women's healthcare or imaging facilities.\nSelf Assessment Module 
 (SAM): No\nInstructors:Lesa Mohr, RT(R)(QM)(BD)\nSpecialty Audience:Ra
 diology\n\nFor more information visit https://community.radrounds.com/
 events/bone-densitometry-principles-and-procedures-2
DTSTART:20120602T040000Z
DTEND:20120604T035900Z
CATEGORIES:radiology
LOCATION:Advanced Health Education Center
WEBSITE:http://aheconline.com/
URL:http://aheconline.com/
CONTACT:(800) 239-1361
ORGANIZER:Advanced Health Education Center
ATTACH;FMTTYPE="image/jpeg":
ATTENDEE;ROLE=REQ-PARTICIPANT;PARTSTAT=ACCEPTED;RSVP=TRUE;CN="radRound
 s Radiology Events":https://community.radrounds.com/profile/radRoundsR
 adiologyEvents
END:VEVENT
END:VCALENDAR
