BEGIN:VCALENDAR
PRODID:NingEventWidget-v1
VERSION:2.0
METHOD:PUBLISH
BEGIN:VEVENT
UID:1791588:Event:151326
DTSTAMP:20260420T073727Z
SUMMARY:Bone Densitometry: Initial Training
DESCRIPTION:Bone densitometry is a very hot topic. It is proving to be
  a key tool in the diagnosis and treatment outcomes of osteoporosis. T
 here are an estimated 44 million Americans affected by osteoporosis ea
 ch year. The cost of managing the consequences of this disease cost th
 e health care system in the United States billions of dollars. The inc
 lusion of bone densitometry as a reimbursable Medicare procedure has f
 ocused attention on who is performing the procedures and on personnel 
 training requirements. This comprehensive training program will prepar
 e you to meet and exceed the current training requirements. Every aspe
 ct of principles, theory, practical knowledge and skills to perform bo
 ne densitometry will be highlighted. This course will meet the needs o
 f those new to the field or those wishing to expand their knowledge be
 yond the “how to’s”.\n\nFor more information visit https://commu
 nity.radrounds.com/events/bone-densitometry-initial-training
DTSTART:20140607T040000Z
DTEND:20140609T035900Z
CATEGORIES:"ce:", bone, density
LOCATION:Advanced Health Education Center
WEBSITE:https://store2.aheconline.com/index.php?route=product/product&
 path=59&product_id=912
URL:https://store2.aheconline.com/index.php?route=product/product&path
 =59&product_id=912
CONTACT:
ORGANIZER;CN="Larry Carney":https://community.radrounds.com/profile/La
 rryCarney
ATTACH;FMTTYPE="image/jpeg":
ATTENDEE;ROLE=REQ-PARTICIPANT;PARTSTAT=ACCEPTED;RSVP=TRUE;CN="Larry Ca
 rney":https://community.radrounds.com/profile/LarryCarney
END:VEVENT
END:VCALENDAR
