BEGIN:VCALENDAR
PRODID:NingEventWidget-v1
VERSION:2.0
METHOD:PUBLISH
BEGIN:VEVENT
UID:1791588:Event:194795
DTSTAMP:20260422T185548Z
SUMMARY:Bone Densitometry: Initial Training (Live Event)
DESCRIPTION:Bone densitometry is a very hot topic. It is proving to be
  a key tool in the diagnosis and treatment outcomes of osteoporosis. T
 here are an estimated 44 million Americans affected by osteoporosis ea
 ch year. The cost of managing the consequences of this disease cost th
 e health care system in the United States billions of dollars. The inc
 lusion of bone densitometry as a reimbursable Medicare procedure has f
 ocused attention on who is performing the procedures and on personnel 
 training requirements. This comprehensive training program will prepar
 e you to meet and exceed the current training requirements. Every aspe
 ct of principles, theory, practical knowledge and skills to perform bo
 ne densitometry will be highlighted. This course will meet the needs o
 f those new to the field or those wishing to expand their knowledge be
 yond the “how to’s”.The comprehensive program was developed by a
 n ARRT registered and ISCD credentialed densitometrist and includes to
 pics that are reflective of the content specifications for the Interna
 tional Society of Clinical Densitometry and the ARRT Registry for Bone
  Densitometry. This course is designed for all healthcare professional
 s who are planning to or are currently performing bone densitometry me
 asurements in either clinical practice, women's healthcare or imaging 
 facilities.**Healthcare professionals who are not registered radiologi
 c technologists should also register for the \"Radiation Safety in Ima
 ging Today\" course in order to meet the radiation safety requirements
  for the Texas Department of State Health Services. For added convenie
 nce, the 4-hour \"Radiation Safety in Imaging Today\" course is offere
 d on the day immediately prior to the 16 hour \"Bone Densitometry: Pri
 nciples and Procedures\" course which is conducted on Saturday and Sun
 day.\n\nFor more information visit https://community.radrounds.com/eve
 nts/bone-densitometry-initial-training-live-event-4
DTSTART:20200307T140000Z
DTEND:20200308T203000Z
CATEGORIES:live, event
LOCATION:Advanced Health Education Center
WEBSITE:http://store.aheconline.com
URL:http://store.aheconline.com
CONTACT:1 (800) 239-1361
ORGANIZER:AHEC
ATTACH;FMTTYPE="image/jpeg":
ATTENDEE;ROLE=REQ-PARTICIPANT;PARTSTAT=ACCEPTED;RSVP=TRUE;CN="Larry Ca
 rney":https://community.radrounds.com/profile/LarryCarney
END:VEVENT
END:VCALENDAR
