BEGIN:VCALENDAR
PRODID:NingEventWidget-v1
VERSION:2.0
METHOD:PUBLISH
BEGIN:VEVENT
UID:1791588:Event:168142
DTSTAMP:20260421T041812Z
SUMMARY:Bone Densitometry: Initial Training
DESCRIPTION:Course Topics\n\nOsteoporosis risk factors\nIndications fo
 r densitometry\nMethods of measuring bone mass\nAnatomy/central densit
 ometry\nPrinciples of densitometry\nQuality assurance and calibration 
 of a DXA system\nSite preparation\nPatient preparation\nPatient positi
 oning\nPerforming DXA scans\nAnalysis of DXA scans\nTroubleshooting of
  DXA scans\n\n\nFor more information visit https://community.radrounds
 .com/events/bone-densitometry-initial-training-7
DTSTART:20161001T120000Z
DTEND:20161002T201500Z
CATEGORIES:live, event
LOCATION:Houston
WEBSITE:https://store.aheconline.com/index.php?route=product/product&p
 ath=59&product_id=2158
URL:https://store.aheconline.com/index.php?route=product/product&path=
 59&product_id=2158
CONTACT:18002391361
ORGANIZER;CN="Larry Carney":https://community.radrounds.com/profile/La
 rryCarney
ATTACH;FMTTYPE="image/jpeg":
ATTENDEE;ROLE=REQ-PARTICIPANT;PARTSTAT=ACCEPTED;RSVP=TRUE;CN="Larry Ca
 rney":https://community.radrounds.com/profile/LarryCarney
END:VEVENT
END:VCALENDAR
