BEGIN:VCALENDAR
PRODID:NingEventWidget-v1
VERSION:2.0
METHOD:PUBLISH
BEGIN:VEVENT
UID:1791588:Event:158194
DTSTAMP:20260419T154250Z
SUMMARY:Bone Densitometry Exam Review
DESCRIPTION:\nRegister early and save! Please register early and reser
 ve your place by providing payment to avoid an additional $25 fee requ
 ired for registrations given within two (2) weeks of the course.\nBone
  densitometry is a rapidly evolving modality which is recognizing the 
 need for credentials for those who are performing densitometry measure
 ments in a multitude of settings. This course will provide a comprehen
 sive overview for the technologist or non-technologist preparing for b
 one densitometry credentialing or certification examinations. This cou
 rse was developed and is taught by faculty who are credentialed by the
  American Registry of Radiologic Technologists in Bone Densitometry. T
 his experienced technologist will guide you through the examination co
 ntent specifications for preparation for the ARRT registry in bone den
 sitometry, the ARRT Bone Densitometry Equipment Operators Exam (BDEO) 
 or the ISCD Certified Bone Densitometry Technologist Examination.  Cou
 rse Topics\n\nOverview of bone densitometry examinations\nBone basics 
 and osteoporosis\nMethods of measuring bone mass\nBMD measurement term
 inology\nEquipment operation and quality control\nRadiation safety of 
 system\nDXA scans of peripheral sites\nDXA scans of central sites\nSer
 ial measurements\n\nFaculty: Lesa Mohr, BSRS, RT(R)(QM)(BD)\n\n\nFor 
 more information visit https://community.radrounds.com/events/bone-den
 sitometry-exam-review
DTSTART:20150801T120000Z
DTEND:20150801T210000Z
CATEGORIES:seminar
LOCATION:Advanced Health Education Center
WEBSITE:https://store.aheconline.com/index.php?route=product/product&f
 ilter_name=bone%20densitometry%20Exam%20review&product_id=1526
URL:https://store.aheconline.com/index.php?route=product/product&filte
 r_name=bone%20densitometry%20Exam%20review&product_id=1526
CONTACT:713-772-0157
ORGANIZER;CN="Larry Carney":https://community.radrounds.com/profile/La
 rryCarney
ATTACH;FMTTYPE="image/jpeg":
ATTENDEE;ROLE=REQ-PARTICIPANT;PARTSTAT=ACCEPTED;RSVP=TRUE;CN="Larry Ca
 rney":https://community.radrounds.com/profile/LarryCarney
END:VEVENT
END:VCALENDAR
