BEGIN:VCALENDAR
PRODID:NingEventWidget-v1
VERSION:2.0
METHOD:PUBLISH
BEGIN:VEVENT
UID:1791588:Event:123418
DTSTAMP:20260421T204029Z
SUMMARY:Bone Densitometry Comprehensive Exam Review
DESCRIPTION:Bone Densitometry is a rapidly evolving modality which is 
 recognizing the need for credentials for those who are performing dens
 itometry measurements in a multitude of settings. This course will pro
 vide a comprehensive overview for the technologist or non-technologist
  preparing for Bone Densitometry credentialing or certification examin
 ations.  This course was developed and is taught by faculty who arecr
 edentialed by both the American Registry of Radiologic Technologists i
 n Bone Densitometry.  This experienced technologist will guide you th
 rough the examination content specifications for preparation for the A
 RRT registry in Bone Densitometry, the ARRT Bone Densitometry Equipmen
 t Operators Exam (BDEO) or the ISCD Certified Bone Densitometry Techno
 logist Examina-tion.\n\nFor more information visit https://community.r
 adrounds.com/events/bone-densitometry-comprehensive-exam-review-1
DTSTART:20120804T120000Z
DTEND:20120804T201500Z
CATEGORIES:ce, course
LOCATION:Advanced Health Education Center
WEBSITE:http://store.aheconline.com/DisplayDetail.aspx?pid=7000
URL:http://store.aheconline.com/DisplayDetail.aspx?pid=7000
CONTACT:800-239-1361
ORGANIZER:Advanced Health Education Center
ATTACH;FMTTYPE="image/jpeg":
ATTENDEE;ROLE=REQ-PARTICIPANT;PARTSTAT=ACCEPTED;RSVP=TRUE;CN="Larry Ca
 rney":https://community.radrounds.com/profile/LarryCarney
END:VEVENT
END:VCALENDAR
