BEGIN:VCALENDAR
PRODID:NingEventWidget-v1
VERSION:2.0
METHOD:PUBLISH
BEGIN:VEVENT
UID:1791588:Event:177814
DTSTAMP:20260421T213221Z
SUMMARY:Blended Ultrasound-Guided Vascular Access (Online Course + Han
 ds-On Workshop)
DESCRIPTION:The Blended Ultrasound Guided Vascular Access Course inclu
 des comprehensive online lectures and live hands-on scanning for centr
 al and peripheral line placement. This blended vascular access ultraso
 und hands-on course/program incorporates 15 months access to lectures 
 in an online course format and a one day hands-on scanning workshop, f
 eaturing a 3:1 ratio with live models and inanimate phantoms.\n\nFor m
 ore information visit https://community.radrounds.com/events/blended-u
 ltrasound-guided-vascular-access
DTSTART:20180608T123000Z
DTEND:20180608T203000Z
CATEGORIES:live, seminar, webinar, online, course
LOCATION:Gulfcoast Ultrasound Institute
WEBSITE:https://www.gcus.com/
URL:https://www.gcus.com/
CONTACT:7273634500
ORGANIZER:Gulfcoast Ultrasound Institute, Inc
ATTACH;FMTTYPE="image/jpeg":http://storage.ning.com/topology/rest/1.0/
 file/get/1044773150?profile=original
ATTENDEE;ROLE=REQ-PARTICIPANT;PARTSTAT=ACCEPTED;RSVP=TRUE;CN="Casey Gr
 een":https://community.radrounds.com/profile/JamesSalame
END:VEVENT
END:VCALENDAR
