BEGIN:VCALENDAR
PRODID:NingEventWidget-v1
VERSION:2.0
METHOD:PUBLISH
BEGIN:VEVENT
UID:1791588:Event:169980
DTSTAMP:20260423T073117Z
SUMMARY:Blended Ultrasound Guided Vascular Access  (Online Course + Ha
 nds-On Workshop)
DESCRIPTION:The Blended Ultrasound Guided Vascular Access Course inclu
 des comprehensive online lectures and extensive hands-on scanning for 
 central and peripheral line placement. This blended ultrasound trainin
 g course incorporates 8 months access to lectures in an online course 
 format and a half day hands-on scanning workshop, featuring a 3:1 rati
 o with live models and inanimate phantoms.\nObjectives\n\nDemonstrate 
 the participant’s knowledge to better perform ultrasound-guided vasc
 ular access procedures.\nDemonstrate proper transducer manipulation an
 d system optimization to produce diagnostic images.\nDifferentiate ven
 ous vs. arterial anatomy by ultrasound.\nDemonstrate the use of ultras
 ound guidance for Central Line & Peripheral Line vascular access.\nDem
 onstrate competence to incorporate protocols, scan techniques, and int
 erpretation criteria to improve diagnostic/treatment accuracy.\n\n \n
 \nTopics\n\nFundamentals of UG Vascular Access\n“Direct” vs. “In
 direct” Techniques\n“In-plane” vs. “Out-of-plane” Techniques
 \nUltrasound Guided Central Line Placement\nPrinciples of Vessel Diffe
 rentiation\nInternal Jugular & Axillary/Subclavian Approach\nFemoral, 
 Antecubital Vein Access\nAdditional Access Sites & Comments on the Ped
 iatric Patient\nClinical Case Review\n\n\nFor more information visit h
 ttps://community.radrounds.com/events/blended-ultrasound-guided-vascul
 ar-access-online-course-hands-o-1
DTSTART:20170825T040000Z
DTEND:20170826T035900Z
CATEGORIES:cme, conference
LOCATION:Gulfcoast Ultrasound Institute
WEBSITE:https://www.gcus.com/courses/about.asp?course=1120
URL:https://www.gcus.com/courses/about.asp?course=1120
CONTACT:17273634500
ORGANIZER:GCUS
ATTACH;FMTTYPE="image/jpeg":http://storage.ning.com/topology/rest/1.0/
 file/get/1044769054?profile=original
ATTENDEE;ROLE=REQ-PARTICIPANT;PARTSTAT=ACCEPTED;RSVP=TRUE;CN="Casey Gr
 een":https://community.radrounds.com/profile/JamesSalame
END:VEVENT
END:VCALENDAR
