BEGIN:VCALENDAR
PRODID:NingEventWidget-v1
VERSION:2.0
METHOD:PUBLISH
BEGIN:VEVENT
UID:1791588:Event:185535
DTSTAMP:20260422T035238Z
SUMMARY:Blended Ultrasound Guided Nerve Blocks in Emergency Medicine
DESCRIPTION:Blended Ultrasound Guided Nerve Blocks in Emergency Medici
 ne Training Course is designed for Emergency Medicine Physicians seeki
 ng to integrate ultrasound guided nerve blocks for surgery, pain manag
 ement, or procedural applications such as fracture reduction into thei
 r clinical practice. The Blended Ultrasound Guided Nerve Blocks in Eme
 rgency Medicine Course is taught by leading emergency medicine ultraso
 und experts that specialize in ultrasound guidance nerve blocks and in
 corporates comprehensive online lectures and interactive case presenta
 tions with fifteen (15) months unlimited access and a (1) One Day (6 H
 ours) of our industry leading 3:1 faculty to participant hands-on scan
  only workshop with both live models (anatomy) and inanimate phantoms 
 (interventional techniques). For the best ultrasound education experie
 nce, completion of the online course prior to hands on scanning is rec
 ommended.\n\nFor more information visit https://community.radrounds.co
 m/events/blended-ultrasound-guided-nerve-blocks-in-emergency-medicine
DTSTART:20190521T123000Z
DTEND:20190521T203000Z
CATEGORIES:blended, cme, course
LOCATION:Gulfcoast Ultrasound Institute
WEBSITE:https://www.gcus.com/
URL:https://www.gcus.com/
CONTACT:727-363-4500
ORGANIZER:Gulfcoast Ultrasound Institute, Inc
ATTACH;FMTTYPE="image/jpeg":https://storage.ning.com/topology/rest/1.0
 /file/get/309270374?profile=original
ATTENDEE;ROLE=REQ-PARTICIPANT;PARTSTAT=ACCEPTED;RSVP=TRUE;CN="Casey Gr
 een":https://community.radrounds.com/profile/JamesSalame
END:VEVENT
END:VCALENDAR
