BEGIN:VCALENDAR
PRODID:NingEventWidget-v1
VERSION:2.0
METHOD:PUBLISH
BEGIN:VEVENT
UID:1791588:Event:177811
DTSTAMP:20260421T181803Z
SUMMARY:Blended Ultrasound-Guided Nerve Blocks for the Emergency Physi
 cian (Online Course + Hands-On Workshop)
DESCRIPTION:The Blended Ultrasound-Guided Nerve Blocks for the Emergen
 cy Physician is taught by leading emergency ultrasound experts. This u
 ltrasound training program is designed to reinforce and improve scanni
 ng skills for emergency ultrasound applications. The online course giv
 es you 15 months to access the course lectures in an online course for
 mat, combined with scanning live models and inanimate phantoms, this c
 ourse provides the perfect opportunity to improve your scanning profic
 iency.\n\nFor more information visit https://community.radrounds.com/e
 vents/blended-ultrasound-guided-nerve-blocks-for-the-emergency
DTSTART:20180608T123000Z
DTEND:20180608T203000Z
CATEGORIES:live, seminar, webinar, online, course
LOCATION:Gulfcoast Ultrasound Institute
WEBSITE:https://www.gcus.com/
URL:https://www.gcus.com/
CONTACT:7273634500
ORGANIZER:Gulfcoast Ultrasound Institute, Inc
ATTACH;FMTTYPE="image/jpeg":http://storage.ning.com/topology/rest/1.0/
 file/get/1044773213?profile=original
ATTENDEE;ROLE=REQ-PARTICIPANT;PARTSTAT=ACCEPTED;RSVP=TRUE;CN="Casey Gr
 een":https://community.radrounds.com/profile/JamesSalame
END:VEVENT
END:VCALENDAR
