BEGIN:VCALENDAR
PRODID:NingEventWidget-v1
VERSION:2.0
METHOD:PUBLISH
BEGIN:VEVENT
UID:1791588:Event:172962
DTSTAMP:20260423T023835Z
SUMMARY:Blended Trauma and Acute Care Sonography
DESCRIPTION: Blended Trauma and Acute Care Sonography training course
  covers a strong foundation to perform the core ultrasound application
 s as outlined in the ACEP emergency ultrasound practice guidelines.\n\
 nFor more information visit https://community.radrounds.com/events/ble
 nded-trauma-and-acute-care-sonography
DTSTART:20170823T040000Z
DTEND:20170824T035900Z
CATEGORIES:continuing, medical, education, course
LOCATION:Gulfcoast Ultrasound Institute
WEBSITE:https://www.gcus.com/courses/about.asp?course=1145/Blended-Tra
 uma-and-Acute-Care-Sonography
URL:https://www.gcus.com/courses/about.asp?course=1145/Blended-Trauma-
 and-Acute-Care-Sonography
CONTACT:17273634500
ORGANIZER;CN="Casey Green":https://community.radrounds.com/profile/Jam
 esSalame
ATTACH;FMTTYPE="image/jpeg":
ATTENDEE;ROLE=REQ-PARTICIPANT;PARTSTAT=ACCEPTED;RSVP=TRUE;CN="Casey Gr
 een":https://community.radrounds.com/profile/JamesSalame
END:VEVENT
END:VCALENDAR
