BEGIN:VCALENDAR
PRODID:NingEventWidget-v1
VERSION:2.0
METHOD:PUBLISH
BEGIN:VEVENT
UID:1791588:Event:178036
DTSTAMP:20260421T062514Z
SUMMARY:Blended Trauma and Acute Care Sonography (Online Course + Hand
 s-On Workshop)
DESCRIPTION:The Blended Trauma and Acute Care Sonography training cour
 se covers a strong foundation to perform the core ultrasound applicati
 ons as outlined in the ACEP emergency ultrasound practice guidelines. 
 Taught by leading emergency medicine ultrasound expert faculty. The sc
 anning skills workshop portion is designed to reinforce and improve sc
 anning skills for emergency medicine, critical care, abdominal, and OB
 -GYN ultrasound applications. Scanning live models and inanimate phant
 oms provides the perfect opportunity to improve scanning proficiency.\
 nTopics\n\nUltrasound Imaging Fundamentals: The Basics\nAbdominal Scan
 ning Fundamentals\nThe FAST and e-FAST Exams\nUltrasound-Guided Vascul
 ar Access Fundamentals\nUltrasound-Guided Nerve Blocks for Trauma\nSof
 t-Tissue/Musculoskeletal Applications in Trauma\nFocused Cardiac Ultra
 sound: Differential Diagnosis of Shock in Trauma\nCases in Trauma Ultr
 asound\n\n \nObjectives\n\nDemonstrate the participants knowledge to 
 better perform and/or interpret trauma ultrasound examinations\nState 
 the basic fundamentals of ultrasound physics and demonstrate appropria
 te optimization of system controls\nPerform ultrasound evaluation of t
 he trauma patient and pneumothorax (e-FAST)\nDemonstrate scan protocol
 s for focused evaluation of the adult heart\nState an algorithm for us
 es of bedside ultrasound for differential diagnosis of shock in a trau
 ma patient\nRecognize the sonographic appearance of individual nerves 
 and list the advantages provided when ultrasound is used for performin
 g regional nerve blocks\nPerform ultrasound evaluation of the lung, oc
 ular, soft-tissue, musculoskeletal, and fractures\n\n\nFor more inform
 ation visit https://community.radrounds.com/events/blended-trauma-and-
 acute-care-sonography-online-course-hands-on
DTSTART:20181116T133000Z
DTEND:20181116T213000Z
CATEGORIES:live, cme, seminar
LOCATION:Gulfcoast Ultrasound Institute
WEBSITE:https://www.gcus.com/
URL:https://www.gcus.com/
CONTACT:7273634500
ORGANIZER:Gulfcoast Ultrasound Institute, Inc
ATTACH;FMTTYPE="image/jpeg":http://storage.ning.com/topology/rest/1.0/
 file/get/1044771883?profile=original
ATTENDEE;ROLE=REQ-PARTICIPANT;PARTSTAT=ACCEPTED;RSVP=TRUE;CN="Casey Gr
 een":https://community.radrounds.com/profile/JamesSalame
END:VEVENT
END:VCALENDAR
