BEGIN:VCALENDAR
PRODID:NingEventWidget-v1
VERSION:2.0
METHOD:PUBLISH
BEGIN:VEVENT
UID:1791588:Event:178011
DTSTAMP:20260421T145456Z
SUMMARY:Blended Trauma and Acute Care Sonography (Online Course + Hand
 s-On Workshop)
DESCRIPTION:The Blended Trauma and Acute Care Sonography training cour
 se covers a strong foundation to perform the core ultrasound applicati
 ons as outlined in the ACEP emergency ultrasound practice guidelines. 
 Taught by leading emergency medicine ultrasound expert faculty. The sc
 anning skills workshop portion is designed to reinforce and improve sc
 anning skills for emergency medicine, critical care, abdominal, and OB
 -GYN ultrasound applications. Scanning live models and inanimate phant
 oms provides the perfect opportunity to improve scanning proficiency.\
 n\nFor more information visit https://community.radrounds.com/events/b
 lended-trauma-and-acute-care-sonography-2
DTSTART:20180607T123000Z
DTEND:20180607T203000Z
CATEGORIES:live, seminar, webinar, online, course
LOCATION:Gulfcoast Ultrasound Institute
WEBSITE:https://www.gcus.com/
URL:https://www.gcus.com/
CONTACT:7273634500
ORGANIZER:Gulfcoast Ultrasound Institute, Inc
ATTACH;FMTTYPE="image/jpeg":http://storage.ning.com/topology/rest/1.0/
 file/get/1044771851?profile=original
ATTENDEE;ROLE=REQ-PARTICIPANT;PARTSTAT=ACCEPTED;RSVP=TRUE;CN="Casey Gr
 een":https://community.radrounds.com/profile/JamesSalame
END:VEVENT
END:VCALENDAR
