BEGIN:VCALENDAR
PRODID:NingEventWidget-v1
VERSION:2.0
METHOD:PUBLISH
BEGIN:VEVENT
UID:1791588:Event:170220
DTSTAMP:20260423T024153Z
SUMMARY:Blended Pediatric Emergency & Critical Care Ultrasound  (Onlin
 e Course + Hands-On Workshop)
DESCRIPTION:The Blended Pediatric Emergency and Critical Care Course i
 s designed to increase the participant’s knowledge and competence to
  perform and interpret pediatric ultrasound examinations in an Emergen
 cy or Critical Care setting. This course is taught by leading pediatri
 c emergency and critical care ultrasound experts and includes 8 month 
 access to course lectures in an online course format combined with two
  half day scanning workshops. The scan workshops have a 3:1 ratio with
  live pediatric models and inanimate phantoms.\n\nObjectives\n\nIncrea
 se the participant’s knowledge to better perform pediatric emergency
  and critical care ultrasound examinations.\nIdentify normal imaging c
 haracteristics of the pediatric urinary tract\nDemonstrate protocols f
 or evaluation of the trauma patient (FAST).\nDemonstrate ultrasound pr
 otocols for evaluation of pneumothorax, pneumonia and endotracheal tub
 e placement.\nPerform a focused cardiac ultrasound examination on a pe
 diatric patient.\nDemonstrate a focused two-point venous evaluation fo
 r DVT.\nPerform testicular ultrasound and recognize commonly seen abno
 rmalities (optional session).\nIncrease confidence to incorporate prot
 ocols, techniques & interpretation criteria to improve diagnostic/trea
 tment accuracy.\n\n \n\nTopics\n\nE-FAST\nPediatric Urinary Tract, GI
  Applications\nPediatric Abdominal Case Studies\nHead and Neck\nSoft-T
 issue & MSK Applications\nScrotal Ultrasound\nAdvanced Thoracic Applic
 ations\nLung Imaging, Trachea\nBLUE/FALLS Protocol\nUltrasound Guided 
 Procedures\nVascular Access\nLumbar Puncture\nFocused Cardiac Assessme
 nt of the Pediatric Patient\nShock & Hypotension: RUSH Protocol\nHow t
 o Start an Ultrasound Program\nDeep Vein Thrombosis\n\n\nFor more info
 rmation visit https://community.radrounds.com/events/blended-pediatric
 -emergency-critical-care-ultrasound-online
DTSTART:20170821T110000Z
DTEND:20170822T210000Z
CATEGORIES:cme, conference
LOCATION:Gulfcoast Ultrasound Institute
WEBSITE:https://www.gcus.com/courses/about.asp?course=1118
URL:https://www.gcus.com/courses/about.asp?course=1118
CONTACT:17273634500
ORGANIZER:GCUS
ATTACH;FMTTYPE="image/jpeg":http://storage.ning.com/topology/rest/1.0/
 file/get/1044771857?profile=original
ATTENDEE;ROLE=REQ-PARTICIPANT;PARTSTAT=ACCEPTED;RSVP=TRUE;CN="Casey Gr
 een":https://community.radrounds.com/profile/JamesSalame
END:VEVENT
END:VCALENDAR
