BEGIN:VCALENDAR
PRODID:NingEventWidget-v1
VERSION:2.0
METHOD:PUBLISH
BEGIN:VEVENT
UID:1791588:Event:177917
DTSTAMP:20260422T021653Z
SUMMARY:Blended Pediatric Emergency and Critical Care Ultrasound (Onli
 ne Course + Hands-On Workshop)
DESCRIPTION:The Blended Pediatric Emergency and Critical Care Course i
 s designed to increase the participant’s knowledge and competence to
  perform and interpret pediatric ultrasound examinations in an Emergen
 cy or Critical Care setting. This pediatric ultrasound hands-on course
 /program is taught by leading pediatric emergency and critical care ul
 trasound experts and includes 15 month access to course lectures in an
  online course format combined with one day scanning workshops. The sc
 an workshops have a 3:1 ratio with live pediatric models and inanimate
  phantoms.\nTopics\n\nE-FAST\nPediatric Urinary Tract, GI Applications
 \nPediatric Abdominal Case Studies\nHead and Neck\nSoft-Tissue & MSK A
 pplications\nScrotal Ultrasound\nAdvanced Thoracic Applications\nLung 
 Imaging, Trachea\nBLUE/FALLS Protocol\nUltrasound Guided Procedures\nV
 ascular Access\nLumbar Puncture\nFocused Cardiac Assessment of the Ped
 iatric Patient\nShock & Hypotension: RUSH Protocol\nHow to Start an Ul
 trasound Program\nDeep Vein Thrombosis\n\n \nObjectives\n\nIncrease t
 he participant’s knowledge to better perform pediatric emergency and
  critical care ultrasound examinations.\nIdentify normal imaging chara
 cteristics of the pediatric urinary tract\nDemonstrate protocols for e
 valuation of the trauma patient (FAST).\nDemonstrate ultrasound protoc
 ols for evaluation of pneumothorax, pneumonia and endotracheal tube pl
 acement.\nPerform a focused cardiac ultrasound examination on a pediat
 ric patient.\nDemonstrate a focused two-point venous evaluation for DV
 T.\nPerform testicular ultrasound and recognize commonly seen abnormal
 ities (optional session).\nIncrease confidence to incorporate protocol
 s, techniques & interpretation criteria to improve diagnostic/treatmen
 t accuracy.\n\n\nFor more information visit https://community.radround
 s.com/events/blended-pediatric-emergency-and-critical-care-ultrasound
DTSTART:20180915T123000Z
DTEND:20180915T203000Z
CATEGORIES:live, seminar, webinar, online, course, cme
LOCATION:Gulfcoast Ultrasound Institute
WEBSITE:https://www.gcus.com/
URL:https://www.gcus.com/
CONTACT:7273634500
ORGANIZER:Gulfcoast Ultrasound Institute, Inc
ATTACH;FMTTYPE="image/jpeg":http://storage.ning.com/topology/rest/1.0/
 file/get/1044772058?profile=original
ATTENDEE;ROLE=REQ-PARTICIPANT;PARTSTAT=ACCEPTED;RSVP=TRUE;CN="Casey Gr
 een":https://community.radrounds.com/profile/JamesSalame
END:VEVENT
END:VCALENDAR
