BEGIN:VCALENDAR
PRODID:NingEventWidget-v1
VERSION:2.0
METHOD:PUBLISH
BEGIN:VEVENT
UID:1791588:Event:169895
DTSTAMP:20260420T053428Z
SUMMARY:Blended Introduction to Transcranial Doppler Ultrasound  (Onli
 ne Course + Hands-On Workshop)
DESCRIPTION:Blended Introduction to Transcranial Doppler is designed t
 o provide a strong foundation to perform and/or interpret Transcranial
  Doppler and Transcranial color flow imaging examinations. This Intro 
 to TCD course includes a comprehensive online course to cover all of t
 he didactics combined with a 1 day extensive hands on scanning worksho
 p featuring a 3:1 hands-on ratio using live models and an interactive 
 pathology simulator.\nObjectives\n\nIncrease participant's knowledge t
 o better perform and/or interpret TCD/TCI examinations.\nDemonstrate s
 tandard scan techniques for performing a TCD and TCI exam.\nRecognize 
 normal and abnormal intracranial Doppler spectral waveform characteris
 tics\nApply diagnostic criteria for TCD/TCI interpretation\nState the 
 clinical applications and limitations of TCD/TCI examinations\nIncreas
 e knowledge and confidence to integrate the skills learned in a clinic
 al setting.\n\n \n\nTopics\n\nTranscranial Doppler History\nNeuroanat
 omy\nTCD Examination Techniques\nClinical Applications\nSubarachnoid H
 emorrhage\nAVM, Cerebrovascular Reactivity, Trauma\nBrain Death, Embol
 i, Cerebrovascular Disease\nIntracranial Stenosis, Intracranial Occlus
 ion\nSickle Cell Disease, PFO\n\n\n\nFor more information visit https:
 //community.radrounds.com/events/blended-introduction-to-transcranial-
 doppler-ultrasound-online
DTSTART:20170210T050000Z
DTEND:20170211T045900Z
CATEGORIES:cme, conference, "(online", and, live, "hands-on)"
LOCATION:Gulfcoast Ultrasound Institute
WEBSITE:https://www.gcus.com/courses/about.asp?course=1115
URL:https://www.gcus.com/courses/about.asp?course=1115
CONTACT:17273634500
ORGANIZER:GCUS
ATTACH;FMTTYPE="image/jpeg":http://storage.ning.com/topology/rest/1.0/
 file/get/1044769886?profile=original
ATTENDEE;ROLE=REQ-PARTICIPANT;PARTSTAT=ACCEPTED;RSVP=TRUE;CN="Casey Gr
 een":https://community.radrounds.com/profile/JamesSalame
END:VEVENT
END:VCALENDAR
