BEGIN:VCALENDAR
PRODID:NingEventWidget-v1
VERSION:2.0
METHOD:PUBLISH
BEGIN:VEVENT
UID:1791588:Event:185357
DTSTAMP:20260422T115045Z
SUMMARY:Blended Introduction to Transcranial Doppler Ultrasound
DESCRIPTION:Blended Introduction to Transcranial Doppler Ultrasound Tr
 aining Course is designed to provide a strong foundation to perform an
 d/or interpret Transcranial Doppler and Transcranial color flow imagin
 g examinations. The online course offers Fifteen (15) Months Unlimited
  Access where the topics covered are based on AIUM & IAC practice guid
 elines, plus (1) One Day (6 Hours) scan lab with our industry leading 
 3:1 faculty to participant hands-on scan ratio using live models and a
 n interactive pathology simulator at our facility in St. Petersburg, F
 L. The Blended Introduction to Transcranial Doppler Ultrasound Trainin
 g Course is specifically designed for busy physicians, sonographers an
 d other medical professionals who require the highest quality in Trans
 cranial Doppler ultrasound training. This course is held at multiple d
 ates throughout the year, making it the perfect course for both local 
 participants and participants traveling to Florida to improve their di
 agnostic and scanning proficiency. For the best ultrasound education e
 xperience, completion of the online course prior to hands on scanning 
 is recommended.\n\nFor more information visit https://community.radrou
 nds.com/events/blended-introduction-to-transcranial-doppler-ultrasound
 -2
DTSTART:20190517T123000Z
DTEND:20190517T203000Z
CATEGORIES:blended, cme, course
LOCATION:Gulfcoast Ultrasound Institute
WEBSITE:https://www.gcus.com/
URL:https://www.gcus.com/
CONTACT:727-363-4500
ORGANIZER:Gulfcoast Ultrasound Institute, Inc
ATTACH;FMTTYPE="image/jpeg":https://storage.ning.com/topology/rest/1.0
 /file/get/308744967?profile=original
ATTENDEE;ROLE=REQ-PARTICIPANT;PARTSTAT=ACCEPTED;RSVP=TRUE;CN="Casey Gr
 een":https://community.radrounds.com/profile/JamesSalame
END:VEVENT
END:VCALENDAR
