BEGIN:VCALENDAR
PRODID:NingEventWidget-v1
VERSION:2.0
METHOD:PUBLISH
BEGIN:VEVENT
UID:1791588:Event:169959
DTSTAMP:20260422T143521Z
SUMMARY:Blended Introduction to Peripheral Vascular Duplex/Color Flow 
 Imaging (Online Course + Hands-On Workshop)
DESCRIPTION:The Blended Introduction to Peripheral Vascular Ultrasound
  Course is the first step in obtaining a strong foundation to begin pe
 rforming and/or interpreting upper & lower extremity peripheral arteri
 al and venous ultrasound examinations. This blended course provides 8 
 months instant access to course lectures in an online course format an
 d a 2 half day live hands on scanning workshop at our facility. The li
 ve workshop features a 3:1 scan ratio with live models and knowledgeab
 le hands on instructors.\n\nObjectives\n\nIncrease the participants’
  knowledge to better perform and/or interpret upper and lower Peripher
 al Vascular ultrasound examinations.\nApply knowledge of the anatomy/p
 hysiology of the upper & lower extremity venous and arterial systems i
 nto the venous & arterial duplex and physiologic testing examinations.
 \nPerform routine scan protocols, and document Doppler waveforms for l
 ower extremity arterial and venous evaluations of the upper and lower 
 extremity.\nDemonstrate vein mapping techniques to identify suitabilit
 y as a potential arterial bypass graft.\nPerform routine scan protocol
 s and document Doppler waveforms for venous evaluation of the lower ex
 tremities, including pre and post vein ablation evaluation.\nPerform e
 valuation for venous insufficiency and patency of perforators for vein
  therapy treatment.\n\n \n\nTopics\n\nVenous Anatomy, Scan Techniques
  & Normal Characteristics\nDuplex / Color Evaluation of LE, UE DVT\nEv
 aluation of Venous Insufficiency\nDuplex / Color Evaluation for Venous
  Ablation Procedures\nTypes of Vein Ablation Procedures\nPre-Procedure
  Mapping\nPost-procedure Mapping\nLE Arterial Anatomy & Physiology\nCl
 inical Exam & Indirect Testing\nDirect Testing & Duplex Scanning\nLive
  Demo: Arterial Duplex of Lower Arterial Disease\n\n\nFor more informa
 tion visit https://community.radrounds.com/events/blended-introduction
 -to-peripheral-vascular-duplex-color-flow
DTSTART:20170511T110000Z
DTEND:20170512T210000Z
CATEGORIES:cme, conference, "(online", and, live, "hands-on)"
LOCATION:Gulfcoast Ultrasound Institute
WEBSITE:https://www.gcus.com/courses/about.asp?course=1106/Blended-Int
 roduction-to-Peripheral-Vascular-Duplex-Color-Flow-Imaging
URL:https://www.gcus.com/courses/about.asp?course=1106/Blended-Introdu
 ction-to-Peripheral-Vascular-Duplex-Color-Flow-Imaging
CONTACT:17273634500
ORGANIZER:GCUS
ATTACH;FMTTYPE="image/jpeg":http://storage.ning.com/topology/rest/1.0/
 file/get/1044769668?profile=original
ATTENDEE;ROLE=REQ-PARTICIPANT;PARTSTAT=ACCEPTED;RSVP=TRUE;CN="Casey Gr
 een":https://community.radrounds.com/profile/JamesSalame
END:VEVENT
END:VCALENDAR
