BEGIN:VCALENDAR
PRODID:NingEventWidget-v1
VERSION:2.0
METHOD:PUBLISH
BEGIN:VEVENT
UID:1791588:Event:185603
DTSTAMP:20260422T084128Z
SUMMARY:Blended Introduction to Peripheral Vascular Duplex/Color Flow 
 Ultrasound
DESCRIPTION:Blended Introduction to Peripheral Vascular Duplex/Color F
 low Ultrasound Course is the first step in obtaining a strong foundati
 on to begin performing and/or interpreting upper & lower extremity per
 ipheral arterial and venous ultrasound examinations. The Blended Intro
 duction to Peripheral Vascular Duplex/Color Flow Ultrasound Course pro
 vides 15 months unlimited access to the course lectures in an online c
 ourse format and a (1) One Day (6 Hours) live hands on scanning worksh
 op at our facility in St. Petersburg, FL. The live hands on scan works
 hop features a 3:1 scan ratio with live models and expert instruction 
 from world renowned faculty. For the best ultrasound education experie
 nce, completion of the online course prior to hands on scanning is rec
 ommended.\n\nFor more information visit https://community.radrounds.co
 m/events/blended-introduction-to-peripheral-vascular-duplex-color-flow
 -5
DTSTART:20190517T123000Z
DTEND:20190517T203000Z
CATEGORIES:blended, cme, course
LOCATION:Gulfcoast Ultrasound Institute
WEBSITE:https://www.gcus.com/
URL:https://www.gcus.com/
CONTACT:727-363-4500
ORGANIZER:Gulfcoast Ultrasound Institute, Inc
ATTACH;FMTTYPE="image/jpeg":https://storage.ning.com/topology/rest/1.0
 /file/get/308707038?profile=original
ATTENDEE;ROLE=REQ-PARTICIPANT;PARTSTAT=ACCEPTED;RSVP=TRUE;CN="Casey Gr
 een":https://community.radrounds.com/profile/JamesSalame
END:VEVENT
END:VCALENDAR
