BEGIN:VCALENDAR
PRODID:NingEventWidget-v1
VERSION:2.0
METHOD:PUBLISH
BEGIN:VEVENT
UID:1791588:Event:170121
DTSTAMP:20260421T192654Z
SUMMARY:Blended Introduction to Peripheral Vascular Duplex/Color Flow 
 Imaging (Online Course + Hands-On Workshop)
DESCRIPTION:The Blended Introduction to Peripheral Vascular Ultrasound
  Course is the first step in obtaining a strong foundation to begin pe
 rforming and/or interpreting upper & lower extremity peripheral arteri
 al and venous ultrasound examinations. This blended course provides 8 
 months instant access to course lectures in an online course format an
 d a 2 half day live hands on scanning workshop at our facility. The li
 ve workshop features a 3:1 scan ratio with live models and knowledgeab
 le hands on instructors.\nObjectives\n\nIncrease the participants’ k
 nowledge to better perform and/or interpret upper and lower Peripheral
  Vascular ultrasound examinations.\nApply knowledge of the anatomy/phy
 siology of the upper & lower extremity venous and arterial systems int
 o the venous & arterial duplex and physiologic testing examinations.\n
 Perform routine scan protocols, and document Doppler waveforms for low
 er extremity arterial and venous evaluations of the upper and lower ex
 tremity.\nDemonstrate vein mapping techniques to identify suitability 
 as a potential arterial bypass graft.\nPerform routine scan protocols 
 and document Doppler waveforms for venous evaluation of the lower extr
 emities, including pre and post vein ablation evaluation.\nPerform eva
 luation for venous insufficiency and patency of perforators for vein t
 herapy treatment.\n\n \n\nTopics\n\nVenous Anatomy, Scan Techniques &
  Normal Characteristics\nDuplex / Color Evaluation of LE, UE DVT\nEval
 uation of Venous Insufficiency\nDuplex / Color Evaluation for Venous A
 blation Procedures\nTypes of Vein Ablation Procedures\nPre-Procedure M
 apping\nPost-procedure Mapping\nLE Arterial Anatomy & Physiology\nClin
 ical Exam & Indirect Testing\nDirect Testing & Duplex Scanning\nLive D
 emo: Arterial Duplex of Lower Arterial Disease\n\n\nFor more informati
 on visit https://community.radrounds.com/events/blended-introduction-t
 o-peripheral-vascular-duplex-color-flow-2
DTSTART:20171026T110000Z
DTEND:20171027T210000Z
CATEGORIES:cme, conference
LOCATION:Gulfcoast Ultrasound Institute
WEBSITE:https://www.gcus.com/courses/about.asp?course=1107/Blended-Int
 roduction-to-Peripheral-Vascular-Duplex-Color-Flow-Imaging
URL:https://www.gcus.com/courses/about.asp?course=1107/Blended-Introdu
 ction-to-Peripheral-Vascular-Duplex-Color-Flow-Imaging
CONTACT:7273634500
ORGANIZER:Gulfcoast Ultrasound Institute, Inc
ATTACH;FMTTYPE="image/jpeg":http://storage.ning.com/topology/rest/1.0/
 file/get/1044772061?profile=original
ATTENDEE;ROLE=REQ-PARTICIPANT;PARTSTAT=ACCEPTED;RSVP=TRUE;CN="Casey Gr
 een":https://community.radrounds.com/profile/JamesSalame
END:VEVENT
END:VCALENDAR
