BEGIN:VCALENDAR
PRODID:NingEventWidget-v1
VERSION:2.0
METHOD:PUBLISH
BEGIN:VEVENT
UID:1791588:Event:170210
DTSTAMP:20260421T085157Z
SUMMARY:Blended Introduction to OB/GYN Ultrasound  (Online Course + Ha
 nds-On Workshop)
DESCRIPTION:The Blended Introduction to OB-GYN Ultrasound training cou
 rse is taught by leading experts covering transabdominal and endovagin
 al scan techniques, as well as OB applications. This unique course inc
 orporates 8 months access to comprehensive lectures in an online cours
 e format, combined with three half day scanning skills workshops, feat
 uring a 3:1 ratio with live models.\n\nObjectives\n\nIncrease the part
 icipants’ knowledge to better perform gynecology and obstetrical ult
 rasound examinations.\nDemonstrate proper transducer manipulation and 
 system optimization to produce diagnostic images\nDemonstrate routine 
 scan protocols for performing transabdominal & endovaginal GYN scannin
 g, and 1st trimester obstetric applications.\nIdentify normal fetal an
 atomy and perform biophysical profile.\nIncrease confidence to incorpo
 rate protocols, scan techniques, and interpretation criteria to improv
 e diagnostic/treatment accuracy.\n\n \n\nTopics\n\nImaging Fundamenta
 ls\nGYN Anatomy\nScan Protocol (TAS & TV)\nGYN pathology / Case Studie
 s\nFirst Trimester Ultrasound & Case Studies\nFetal Survey, Biometry a
 nd BPP\nPlacenta & Multiple Gestation\nFetal Abnormalities\n\n\nFor mo
 re information visit https://community.radrounds.com/events/blended-in
 troduction-to-ob-gyn-ultrasound-online-course-hands-on
DTSTART:20170608T110000Z
DTEND:20170610T210000Z
CATEGORIES:cme, conference
LOCATION:Gulfcoast Ultrasound Institute
WEBSITE:https://www.gcus.com/courses/about.asp?course=1116
URL:https://www.gcus.com/courses/about.asp?course=1116
CONTACT:17273634500
ORGANIZER:GCUS
ATTACH;FMTTYPE="image/jpeg":http://storage.ning.com/topology/rest/1.0/
 file/get/1044769014?profile=original
ATTENDEE;ROLE=REQ-PARTICIPANT;PARTSTAT=ACCEPTED;RSVP=TRUE;CN="Casey Gr
 een":https://community.radrounds.com/profile/JamesSalame
END:VEVENT
END:VCALENDAR
