BEGIN:VCALENDAR
PRODID:NingEventWidget-v1
VERSION:2.0
METHOD:PUBLISH
BEGIN:VEVENT
UID:1791588:Event:185095
DTSTAMP:20260425T140236Z
SUMMARY:Blended Introduction to OB/GYN Ultrasound
DESCRIPTION:Blended Introduction to OB-GYN Ultrasound Training Course 
 is taught by leading experts covering transabdominal and endovaginal s
 can techniques, as well as OB applications. The Blended Introduction t
 o OB-GYN Ultrasound Training Course offers fifteen (15) months unlimit
 ed access to the online course, plus one (1) Day (6 Hours) scan lab wi
 th a 3:1 faculty to participant hands-on scan ratio at our facility in
  St. Petersburg, FL. The Blended Introduction to OB-GYN Ultrasound Tra
 ining Course is specifically designed for busy physicians, sonographer
 s and other medical professionals who need the highest quality in OB/G
 YN ultrasound training. For the best ultrasound education experience, 
 completion of the online course prior to hands on scanning is recommen
 ded.\n\nFor more information visit https://community.radrounds.com/eve
 nts/blended-introduction-to-ob-gyn-ultrasound-1
DTSTART:20190326T123000Z
DTEND:20190326T201500Z
CATEGORIES:blended, cme, course
LOCATION:Gulfcoast Ultrasound Institute
WEBSITE:https://www.gcus.com/
URL:https://www.gcus.com/
CONTACT:727-363-4500
ORGANIZER:Gulfcoast Ultrasound Institute, Inc
ATTACH;FMTTYPE="image/jpeg":https://storage.ning.com/topology/rest/1.0
 /file/get/308232554?profile=original
ATTENDEE;ROLE=REQ-PARTICIPANT;PARTSTAT=ACCEPTED;RSVP=TRUE;CN="Casey Gr
 een":https://community.radrounds.com/profile/JamesSalame
END:VEVENT
END:VCALENDAR
