BEGIN:VCALENDAR
PRODID:NingEventWidget-v1
VERSION:2.0
METHOD:PUBLISH
BEGIN:VEVENT
UID:1791588:Event:177808
DTSTAMP:20260421T063241Z
SUMMARY:Blended Introduction to Musculoskeletal Ultrasound (Online Cou
 rse + Hands-On Workshop)
DESCRIPTION:The Blended Introduction to Musculoskeletal Ultrasound Cou
 rse is taught by leading MSK ultrasound experts. This msk ultrasound h
 ands-on course/program combines 15 months access to a comprehensive on
 line course and 2 full days of hands on scanning designed to reinforce
  and improve scanning skills for introductory musculoskeletal ultrasou
 nd applications. The extensive hands-on scanning workshops feature a 3
 :1 ratio with live models and inanimate phantoms for a realistic train
 ing experience and to improve scanning proficiency.\n\nFor more inform
 ation visit https://community.radrounds.com/events/blended-introductio
 n-to-musculoskeletal-ultrasound
DTSTART:20180521T123000Z
DTEND:20180522T203000Z
CATEGORIES:live, seminar, webinar, online, course
LOCATION:Gulfcoast Ultrasound Institute
WEBSITE:https://www.gcus.com/
URL:https://www.gcus.com/
CONTACT:7273634500
ORGANIZER:Gulfcoast Ultrasound Institute, Inc
ATTACH;FMTTYPE="image/jpeg":http://storage.ning.com/topology/rest/1.0/
 file/get/1044773252?profile=original
ATTENDEE;ROLE=REQ-PARTICIPANT;PARTSTAT=ACCEPTED;RSVP=TRUE;CN="Casey Gr
 een":https://community.radrounds.com/profile/JamesSalame
END:VEVENT
END:VCALENDAR
